BEGIN:VCALENDAR
VERSION:2.0
PRODID:-//Run Hub Northwest - ECPv6.15.17.1//NONSGML v1.0//EN
CALSCALE:GREGORIAN
METHOD:PUBLISH
X-ORIGINAL-URL:https://runhubnw.com
X-WR-CALDESC:Events for Run Hub Northwest
REFRESH-INTERVAL;VALUE=DURATION:PT1H
X-Robots-Tag:noindex
X-PUBLISHED-TTL:PT1H
BEGIN:VTIMEZONE
TZID:America/Los_Angeles
BEGIN:DAYLIGHT
TZOFFSETFROM:-0800
TZOFFSETTO:-0700
TZNAME:PDT
DTSTART:20250309T100000
END:DAYLIGHT
BEGIN:STANDARD
TZOFFSETFROM:-0700
TZOFFSETTO:-0800
TZNAME:PST
DTSTART:20251102T090000
END:STANDARD
BEGIN:DAYLIGHT
TZOFFSETFROM:-0800
TZOFFSETTO:-0700
TZNAME:PDT
DTSTART:20260308T100000
END:DAYLIGHT
BEGIN:STANDARD
TZOFFSETFROM:-0700
TZOFFSETTO:-0800
TZNAME:PST
DTSTART:20261101T090000
END:STANDARD
BEGIN:DAYLIGHT
TZOFFSETFROM:-0800
TZOFFSETTO:-0700
TZNAME:PDT
DTSTART:20270314T100000
END:DAYLIGHT
BEGIN:STANDARD
TZOFFSETFROM:-0700
TZOFFSETTO:-0800
TZNAME:PST
DTSTART:20271107T090000
END:STANDARD
END:VTIMEZONE
BEGIN:VEVENT
DTSTART;TZID=America/Los_Angeles:20260128T180000
DTEND;TZID=America/Los_Angeles:20260128T200000
DTSTAMP:20260419T143835
CREATED:20241017T231254Z
LAST-MODIFIED:20241017T231440Z
UID:10001096-1769623200-1769630400@runhubnw.com
SUMMARY:Community Group Run/Walk
DESCRIPTION:Join us every Wednesday for a laid-back\, fun run or walk. We meet in front of Run Hub at 515 High Street. Runners and walkers can choose to go 3 or 5 miles at a range of speeds (seriously). Anyone and everyone is welcome\, including small persons in strollers and our four legged-friends. We have 2-3 staff members lead the run and one walk leader.  \nWinter 3-mile routeWinter 5-mile route
URL:https://runhubnw.com/event/community-group-run-2/2026-01-28/
LOCATION:Run Hub Northwest\, 515 High St\, Eugene\, OR\, 97401\, United States
CATEGORIES:Group Run
ATTACH;FMTTYPE=image/jpeg:https://cdn.runhubnw.com/app/uploads/2022/10/17183001/IMG_0003-crop.jpg
GEO:44.0539572;-123.0879346
X-APPLE-STRUCTURED-LOCATION;VALUE=URI;X-ADDRESS=Run Hub Northwest 515 High St Eugene OR 97401 United States;X-APPLE-RADIUS=500;X-TITLE=515 High St:geo:-123.0879346,44.0539572
END:VEVENT
BEGIN:VEVENT
DTSTART;TZID=America/Los_Angeles:20260204T180000
DTEND;TZID=America/Los_Angeles:20260204T200000
DTSTAMP:20260419T143835
CREATED:20241017T231254Z
LAST-MODIFIED:20241017T231440Z
UID:10001097-1770228000-1770235200@runhubnw.com
SUMMARY:Community Group Run/Walk
DESCRIPTION:Join us every Wednesday for a laid-back\, fun run or walk. We meet in front of Run Hub at 515 High Street. Runners and walkers can choose to go 3 or 5 miles at a range of speeds (seriously). Anyone and everyone is welcome\, including small persons in strollers and our four legged-friends. We have 2-3 staff members lead the run and one walk leader.  \nWinter 3-mile routeWinter 5-mile route
URL:https://runhubnw.com/event/community-group-run-2/2026-02-04/
LOCATION:Run Hub Northwest\, 515 High St\, Eugene\, OR\, 97401\, United States
CATEGORIES:Group Run
ATTACH;FMTTYPE=image/jpeg:https://cdn.runhubnw.com/app/uploads/2022/10/17183001/IMG_0003-crop.jpg
GEO:44.0539572;-123.0879346
X-APPLE-STRUCTURED-LOCATION;VALUE=URI;X-ADDRESS=Run Hub Northwest 515 High St Eugene OR 97401 United States;X-APPLE-RADIUS=500;X-TITLE=515 High St:geo:-123.0879346,44.0539572
END:VEVENT
BEGIN:VEVENT
DTSTART;TZID=America/Los_Angeles:20260211T180000
DTEND;TZID=America/Los_Angeles:20260211T200000
DTSTAMP:20260419T143835
CREATED:20241017T231254Z
LAST-MODIFIED:20241017T231440Z
UID:10001098-1770832800-1770840000@runhubnw.com
SUMMARY:Community Group Run/Walk
DESCRIPTION:Join us every Wednesday for a laid-back\, fun run or walk. We meet in front of Run Hub at 515 High Street. Runners and walkers can choose to go 3 or 5 miles at a range of speeds (seriously). Anyone and everyone is welcome\, including small persons in strollers and our four legged-friends. We have 2-3 staff members lead the run and one walk leader.  \nWinter 3-mile routeWinter 5-mile route
URL:https://runhubnw.com/event/community-group-run-2/2026-02-11/
LOCATION:Run Hub Northwest\, 515 High St\, Eugene\, OR\, 97401\, United States
CATEGORIES:Group Run
ATTACH;FMTTYPE=image/jpeg:https://cdn.runhubnw.com/app/uploads/2022/10/17183001/IMG_0003-crop.jpg
GEO:44.0539572;-123.0879346
X-APPLE-STRUCTURED-LOCATION;VALUE=URI;X-ADDRESS=Run Hub Northwest 515 High St Eugene OR 97401 United States;X-APPLE-RADIUS=500;X-TITLE=515 High St:geo:-123.0879346,44.0539572
END:VEVENT
BEGIN:VEVENT
DTSTART;TZID=America/Los_Angeles:20260218T180000
DTEND;TZID=America/Los_Angeles:20260218T200000
DTSTAMP:20260419T143835
CREATED:20241017T231254Z
LAST-MODIFIED:20241017T231440Z
UID:10001099-1771437600-1771444800@runhubnw.com
SUMMARY:Community Group Run/Walk
DESCRIPTION:Join us every Wednesday for a laid-back\, fun run or walk. We meet in front of Run Hub at 515 High Street. Runners and walkers can choose to go 3 or 5 miles at a range of speeds (seriously). Anyone and everyone is welcome\, including small persons in strollers and our four legged-friends. We have 2-3 staff members lead the run and one walk leader.  \nWinter 3-mile routeWinter 5-mile route
URL:https://runhubnw.com/event/community-group-run-2/2026-02-18/
LOCATION:Run Hub Northwest\, 515 High St\, Eugene\, OR\, 97401\, United States
CATEGORIES:Group Run
ATTACH;FMTTYPE=image/jpeg:https://cdn.runhubnw.com/app/uploads/2022/10/17183001/IMG_0003-crop.jpg
GEO:44.0539572;-123.0879346
X-APPLE-STRUCTURED-LOCATION;VALUE=URI;X-ADDRESS=Run Hub Northwest 515 High St Eugene OR 97401 United States;X-APPLE-RADIUS=500;X-TITLE=515 High St:geo:-123.0879346,44.0539572
END:VEVENT
BEGIN:VEVENT
DTSTART;TZID=America/Los_Angeles:20260222T090000
DTEND;TZID=America/Los_Angeles:20260222T120000
DTSTAMP:20260419T143835
CREATED:20260127T204755Z
LAST-MODIFIED:20260218T221529Z
UID:10001415-1771750800-1771761600@runhubnw.com
SUMMARY:HOKA Speedgoat 7 Demo & Trail Run
DESCRIPTION:Test out the HOKA Speedgoat 7 at Mt. Pisgah with Run Hub! The Speedgoat 7 is a highly cushioned\, responsive and grippy trail shoe. All paces are invited to join us for the run. There will also be a prize raffle. \n\n\n\nWe’ll meet at 9am at the main parking lot at Mt. Pisgah (34901 Frank Parrish Rd) for a 4- and 9-mi trail run. All paces are welcome. Parking pass required. After the run\, we’ll have a parking lot tailgate of sorts with HOKA providing some treats. \n\n\n\n4-mile route9-mile route
URL:https://runhubnw.com/event/hoka-speedgoat-7-demo-trail-run/
LOCATION:OR
CATEGORIES:Clinic/Demo,Group Run,Trail Run
ATTACH;FMTTYPE=image/jpeg:https://cdn.runhubnw.com/app/uploads/2026/01/27124122/HOKA_S26_Speedgoat7_DSC02515-scaled-e1769546539108.jpg
END:VEVENT
BEGIN:VEVENT
DTSTART;TZID=America/Los_Angeles:20260225T180000
DTEND;TZID=America/Los_Angeles:20260225T200000
DTSTAMP:20260419T143835
CREATED:20241017T231254Z
LAST-MODIFIED:20241017T231440Z
UID:10001100-1772042400-1772049600@runhubnw.com
SUMMARY:Community Group Run/Walk
DESCRIPTION:Join us every Wednesday for a laid-back\, fun run or walk. We meet in front of Run Hub at 515 High Street. Runners and walkers can choose to go 3 or 5 miles at a range of speeds (seriously). Anyone and everyone is welcome\, including small persons in strollers and our four legged-friends. We have 2-3 staff members lead the run and one walk leader.  \nWinter 3-mile routeWinter 5-mile route
URL:https://runhubnw.com/event/community-group-run-2/2026-02-25/
LOCATION:Run Hub Northwest\, 515 High St\, Eugene\, OR\, 97401\, United States
CATEGORIES:Group Run
ATTACH;FMTTYPE=image/jpeg:https://cdn.runhubnw.com/app/uploads/2022/10/17183001/IMG_0003-crop.jpg
GEO:44.0539572;-123.0879346
X-APPLE-STRUCTURED-LOCATION;VALUE=URI;X-ADDRESS=Run Hub Northwest 515 High St Eugene OR 97401 United States;X-APPLE-RADIUS=500;X-TITLE=515 High St:geo:-123.0879346,44.0539572
END:VEVENT
BEGIN:VEVENT
DTSTART;TZID=America/Los_Angeles:20260304T180000
DTEND;TZID=America/Los_Angeles:20260304T200000
DTSTAMP:20260419T143835
CREATED:20241017T231254Z
LAST-MODIFIED:20241017T231440Z
UID:10001101-1772647200-1772654400@runhubnw.com
SUMMARY:Community Group Run/Walk
DESCRIPTION:Join us every Wednesday for a laid-back\, fun run or walk. We meet in front of Run Hub at 515 High Street. Runners and walkers can choose to go 3 or 5 miles at a range of speeds (seriously). Anyone and everyone is welcome\, including small persons in strollers and our four legged-friends. We have 2-3 staff members lead the run and one walk leader.  \nWinter 3-mile routeWinter 5-mile route
URL:https://runhubnw.com/event/community-group-run-2/2026-03-04/
LOCATION:Run Hub Northwest\, 515 High St\, Eugene\, OR\, 97401\, United States
CATEGORIES:Group Run
ATTACH;FMTTYPE=image/jpeg:https://cdn.runhubnw.com/app/uploads/2022/10/17183001/IMG_0003-crop.jpg
GEO:44.0539572;-123.0879346
X-APPLE-STRUCTURED-LOCATION;VALUE=URI;X-ADDRESS=Run Hub Northwest 515 High St Eugene OR 97401 United States;X-APPLE-RADIUS=500;X-TITLE=515 High St:geo:-123.0879346,44.0539572
END:VEVENT
BEGIN:VEVENT
DTSTART;TZID=America/Los_Angeles:20260311T180000
DTEND;TZID=America/Los_Angeles:20260311T200000
DTSTAMP:20260419T143835
CREATED:20241017T231254Z
LAST-MODIFIED:20241017T231440Z
UID:10001102-1773252000-1773259200@runhubnw.com
SUMMARY:Community Group Run/Walk
DESCRIPTION:Join us every Wednesday for a laid-back\, fun run or walk. We meet in front of Run Hub at 515 High Street. Runners and walkers can choose to go 3 or 5 miles at a range of speeds (seriously). Anyone and everyone is welcome\, including small persons in strollers and our four legged-friends. We have 2-3 staff members lead the run and one walk leader.  \nWinter 3-mile routeWinter 5-mile route
URL:https://runhubnw.com/event/community-group-run-2/2026-03-11/
LOCATION:Run Hub Northwest\, 515 High St\, Eugene\, OR\, 97401\, United States
CATEGORIES:Group Run
ATTACH;FMTTYPE=image/jpeg:https://cdn.runhubnw.com/app/uploads/2022/10/17183001/IMG_0003-crop.jpg
GEO:44.0539572;-123.0879346
X-APPLE-STRUCTURED-LOCATION;VALUE=URI;X-ADDRESS=Run Hub Northwest 515 High St Eugene OR 97401 United States;X-APPLE-RADIUS=500;X-TITLE=515 High St:geo:-123.0879346,44.0539572
END:VEVENT
BEGIN:VEVENT
DTSTART;TZID=America/Los_Angeles:20260318T180000
DTEND;TZID=America/Los_Angeles:20260318T200000
DTSTAMP:20260419T143835
CREATED:20241017T231254Z
LAST-MODIFIED:20241017T231440Z
UID:10001103-1773856800-1773864000@runhubnw.com
SUMMARY:Community Group Run/Walk
DESCRIPTION:Join us every Wednesday for a laid-back\, fun run or walk. We meet in front of Run Hub at 515 High Street. Runners and walkers can choose to go 3 or 5 miles at a range of speeds (seriously). Anyone and everyone is welcome\, including small persons in strollers and our four legged-friends. We have 2-3 staff members lead the run and one walk leader.  \nWinter 3-mile routeWinter 5-mile route
URL:https://runhubnw.com/event/community-group-run-2/2026-03-18/
LOCATION:Run Hub Northwest\, 515 High St\, Eugene\, OR\, 97401\, United States
CATEGORIES:Group Run
ATTACH;FMTTYPE=image/jpeg:https://cdn.runhubnw.com/app/uploads/2022/10/17183001/IMG_0003-crop.jpg
GEO:44.0539572;-123.0879346
X-APPLE-STRUCTURED-LOCATION;VALUE=URI;X-ADDRESS=Run Hub Northwest 515 High St Eugene OR 97401 United States;X-APPLE-RADIUS=500;X-TITLE=515 High St:geo:-123.0879346,44.0539572
END:VEVENT
BEGIN:VEVENT
DTSTART;TZID=America/Los_Angeles:20260325T180000
DTEND;TZID=America/Los_Angeles:20260325T200000
DTSTAMP:20260419T143835
CREATED:20241017T231254Z
LAST-MODIFIED:20241017T231440Z
UID:10001104-1774461600-1774468800@runhubnw.com
SUMMARY:Community Group Run/Walk
DESCRIPTION:Join us every Wednesday for a laid-back\, fun run or walk. We meet in front of Run Hub at 515 High Street. Runners and walkers can choose to go 3 or 5 miles at a range of speeds (seriously). Anyone and everyone is welcome\, including small persons in strollers and our four legged-friends. We have 2-3 staff members lead the run and one walk leader.  \nWinter 3-mile routeWinter 5-mile route
URL:https://runhubnw.com/event/community-group-run-2/2026-03-25/
LOCATION:Run Hub Northwest\, 515 High St\, Eugene\, OR\, 97401\, United States
CATEGORIES:Group Run
ATTACH;FMTTYPE=image/jpeg:https://cdn.runhubnw.com/app/uploads/2022/10/17183001/IMG_0003-crop.jpg
GEO:44.0539572;-123.0879346
X-APPLE-STRUCTURED-LOCATION;VALUE=URI;X-ADDRESS=Run Hub Northwest 515 High St Eugene OR 97401 United States;X-APPLE-RADIUS=500;X-TITLE=515 High St:geo:-123.0879346,44.0539572
END:VEVENT
BEGIN:VEVENT
DTSTART;TZID=America/Los_Angeles:20260401T180000
DTEND;TZID=America/Los_Angeles:20260401T200000
DTSTAMP:20260419T143835
CREATED:20241017T231254Z
LAST-MODIFIED:20241017T231440Z
UID:10001105-1775066400-1775073600@runhubnw.com
SUMMARY:Community Group Run/Walk
DESCRIPTION:Join us every Wednesday for a laid-back\, fun run or walk. We meet in front of Run Hub at 515 High Street. Runners and walkers can choose to go 3 or 5 miles at a range of speeds (seriously). Anyone and everyone is welcome\, including small persons in strollers and our four legged-friends. We have 2-3 staff members lead the run and one walk leader.  \nWinter 3-mile routeWinter 5-mile route
URL:https://runhubnw.com/event/community-group-run-2/2026-04-01/
LOCATION:Run Hub Northwest\, 515 High St\, Eugene\, OR\, 97401\, United States
CATEGORIES:Group Run
ATTACH;FMTTYPE=image/jpeg:https://cdn.runhubnw.com/app/uploads/2022/10/17183001/IMG_0003-crop.jpg
GEO:44.0539572;-123.0879346
X-APPLE-STRUCTURED-LOCATION;VALUE=URI;X-ADDRESS=Run Hub Northwest 515 High St Eugene OR 97401 United States;X-APPLE-RADIUS=500;X-TITLE=515 High St:geo:-123.0879346,44.0539572
END:VEVENT
BEGIN:VEVENT
DTSTART;TZID=America/Los_Angeles:20260408T180000
DTEND;TZID=America/Los_Angeles:20260408T200000
DTSTAMP:20260419T143835
CREATED:20241017T231254Z
LAST-MODIFIED:20241017T231440Z
UID:10001106-1775671200-1775678400@runhubnw.com
SUMMARY:Community Group Run/Walk
DESCRIPTION:Join us every Wednesday for a laid-back\, fun run or walk. We meet in front of Run Hub at 515 High Street. Runners and walkers can choose to go 3 or 5 miles at a range of speeds (seriously). Anyone and everyone is welcome\, including small persons in strollers and our four legged-friends. We have 2-3 staff members lead the run and one walk leader.  \nWinter 3-mile routeWinter 5-mile route
URL:https://runhubnw.com/event/community-group-run-2/2026-04-08/
LOCATION:Run Hub Northwest\, 515 High St\, Eugene\, OR\, 97401\, United States
CATEGORIES:Group Run
ATTACH;FMTTYPE=image/jpeg:https://cdn.runhubnw.com/app/uploads/2022/10/17183001/IMG_0003-crop.jpg
GEO:44.0539572;-123.0879346
X-APPLE-STRUCTURED-LOCATION;VALUE=URI;X-ADDRESS=Run Hub Northwest 515 High St Eugene OR 97401 United States;X-APPLE-RADIUS=500;X-TITLE=515 High St:geo:-123.0879346,44.0539572
END:VEVENT
BEGIN:VEVENT
DTSTART;TZID=America/Los_Angeles:20260415T180000
DTEND;TZID=America/Los_Angeles:20260415T200000
DTSTAMP:20260419T143835
CREATED:20241017T231254Z
LAST-MODIFIED:20241017T231440Z
UID:10001107-1776276000-1776283200@runhubnw.com
SUMMARY:Community Group Run/Walk
DESCRIPTION:Join us every Wednesday for a laid-back\, fun run or walk. We meet in front of Run Hub at 515 High Street. Runners and walkers can choose to go 3 or 5 miles at a range of speeds (seriously). Anyone and everyone is welcome\, including small persons in strollers and our four legged-friends. We have 2-3 staff members lead the run and one walk leader.  \nWinter 3-mile routeWinter 5-mile route
URL:https://runhubnw.com/event/community-group-run-2/2026-04-15/
LOCATION:Run Hub Northwest\, 515 High St\, Eugene\, OR\, 97401\, United States
CATEGORIES:Group Run
ATTACH;FMTTYPE=image/jpeg:https://cdn.runhubnw.com/app/uploads/2022/10/17183001/IMG_0003-crop.jpg
GEO:44.0539572;-123.0879346
X-APPLE-STRUCTURED-LOCATION;VALUE=URI;X-ADDRESS=Run Hub Northwest 515 High St Eugene OR 97401 United States;X-APPLE-RADIUS=500;X-TITLE=515 High St:geo:-123.0879346,44.0539572
END:VEVENT
END:VCALENDAR