BEGIN:VCALENDAR
VERSION:2.0
PRODID:-//Run Hub Northwest - ECPv6.15.17.1//NONSGML v1.0//EN
CALSCALE:GREGORIAN
METHOD:PUBLISH
X-WR-CALNAME:Run Hub Northwest
X-ORIGINAL-URL:https://runhubnw.com
X-WR-CALDESC:Events for Run Hub Northwest
REFRESH-INTERVAL;VALUE=DURATION:PT1H
X-Robots-Tag:noindex
X-PUBLISHED-TTL:PT1H
BEGIN:VTIMEZONE
TZID:America/Los_Angeles
BEGIN:DAYLIGHT
TZOFFSETFROM:-0800
TZOFFSETTO:-0700
TZNAME:PDT
DTSTART:20190310T100000
END:DAYLIGHT
BEGIN:STANDARD
TZOFFSETFROM:-0700
TZOFFSETTO:-0800
TZNAME:PST
DTSTART:20191103T090000
END:STANDARD
BEGIN:DAYLIGHT
TZOFFSETFROM:-0800
TZOFFSETTO:-0700
TZNAME:PDT
DTSTART:20200308T100000
END:DAYLIGHT
BEGIN:STANDARD
TZOFFSETFROM:-0700
TZOFFSETTO:-0800
TZNAME:PST
DTSTART:20201101T090000
END:STANDARD
BEGIN:DAYLIGHT
TZOFFSETFROM:-0800
TZOFFSETTO:-0700
TZNAME:PDT
DTSTART:20210314T100000
END:DAYLIGHT
BEGIN:STANDARD
TZOFFSETFROM:-0700
TZOFFSETTO:-0800
TZNAME:PST
DTSTART:20211107T090000
END:STANDARD
BEGIN:DAYLIGHT
TZOFFSETFROM:-0800
TZOFFSETTO:-0700
TZNAME:PDT
DTSTART:20220313T100000
END:DAYLIGHT
BEGIN:STANDARD
TZOFFSETFROM:-0700
TZOFFSETTO:-0800
TZNAME:PST
DTSTART:20221106T090000
END:STANDARD
END:VTIMEZONE
BEGIN:VEVENT
DTSTART;TZID=America/Los_Angeles:20200311T173000
DTEND;TZID=America/Los_Angeles:20200311T190000
DTSTAMP:20260422T144920
CREATED:20200214T021716Z
LAST-MODIFIED:20200214T021716Z
UID:10000891-1583947800-1583953200@runhubnw.com
SUMMARY:Pre's Trail Prediction Run with On Running
DESCRIPTION:Join us for our regularly scheduled community run and our first Wednesday night back on Pre’s Trail. On will be here with demo shoes that you can wear on the run. This run will also be a prediction run! It has been many long winter months since we’ve run on Pre’s Trail for our Wednesday night runs. Can you remember how long it takes you to run the 3- or 5-mile route? No watches or phones allowed\, and the runner who finishes closest to their predicted time will win a prize! The run will begin at 6 p.m. All paces are welcome!
URL:https://runhubnw.com/event/pres-trail-prediction-run-with-on-running/
LOCATION:Run Hub Northwest\, 515 High St\, Eugene\, OR\, 97401\, United States
CATEGORIES:Clinic/Demo
ATTACH;FMTTYPE=image/jpeg:https://cdn.runhubnw.com/app/uploads/2020/02/13181643/Small-JPEG-SS20-New-Colours-Campaign-Holiday-Season-2-1200x1500px.jpg
GEO:44.0539572;-123.0879346
X-APPLE-STRUCTURED-LOCATION;VALUE=URI;X-ADDRESS=Run Hub Northwest 515 High St Eugene OR 97401 United States;X-APPLE-RADIUS=500;X-TITLE=515 High St:geo:-123.0879346,44.0539572
END:VEVENT
BEGIN:VEVENT
DTSTART;TZID=America/Los_Angeles:20200314T130000
DTEND;TZID=America/Los_Angeles:20200314T160000
DTSTAMP:20260422T144920
CREATED:20200217T215212Z
LAST-MODIFIED:20200314T161259Z
UID:10000892-1584190800-1584201600@runhubnw.com
SUMMARY:CANCELLED - St. Paddy's Day RunVenture
DESCRIPTION:Join us for our St. Patrick’s Day RunVenture! This running scavenger hunt through Eugene will be about three miles total. The run will start at 2 PM at Run Hub but come early to earn extra raffle tickets. You’ll run to other local businesses in town before finishing the run at ColdFire Brewing Company\, where we’ll raffle off prizes from our participating businesses. We’ll also award prizes for best costumes! \nSchedule:\n1 PM: Gather at Run Hub and meet with our vendors\, Brooks Running\, UCAN Nutrition and Nathan Sports. You’ll get extra raffle tickets for trying products from our vendors! \nUCAN uses a patented SuperStarch that doesn’t cause a spike and crash in blood sugar and allows the body to burn fat efficiently\, keeping you fueled longer and performing at your best. \n2 PM: Run begins! You’ll get a stamp for each RunVenture location you make it to and the more stamps you have\, the more raffle tickets you’ll get! \n3 PM: End the run at ColdFire Brewing and enjoy beer and a raffle!
URL:https://runhubnw.com/event/st-paddys-day-runventure-2/
LOCATION:Run Hub Northwest\, 515 High St\, Eugene\, OR\, 97401\, United States
CATEGORIES:RunVenture
ATTACH;FMTTYPE=image/png:https://cdn.runhubnw.com/app/uploads/2020/02/17134916/St.-Paddys-Day-Facebook-Event-Cover-1.png
GEO:44.0539572;-123.0879346
X-APPLE-STRUCTURED-LOCATION;VALUE=URI;X-ADDRESS=Run Hub Northwest 515 High St Eugene OR 97401 United States;X-APPLE-RADIUS=500;X-TITLE=515 High St:geo:-123.0879346,44.0539572
END:VEVENT
BEGIN:VEVENT
DTSTART;TZID=America/Los_Angeles:20200922T000000
DTEND;TZID=America/Los_Angeles:20200927T235900
DTSTAMP:20260422T144920
CREATED:20200922T223610Z
LAST-MODIFIED:20200922T223610Z
UID:10000894-1600732800-1601251140@runhubnw.com
SUMMARY:Hoka Bondi 7 Challenge
DESCRIPTION:To celebrate the update of the uber-cushioned\, ever-popular Hoka Bondi\, Run Hub is partnering with Hoka One One to give away one free pair of Bondi 7s!\n\n\nTo be entered in the drawing to win this giveaway:\n1) Complete a run or walk at least 40 minutes in length.\n2) Share a screenshot documenting your activity (via Strava\, Garmin Connect\, or a similar platform)\, and be sure to tag @runhubnw and @hokaoneone.\n3) You may submit one run per day between September 22nd and 27th (up to 6 runs!)\, and each run will earn you one entry into the drawing.\n4) You can also earn a *bonus* entry by running past Run Hub on Wednesday and snapping a selfie in or outside the shop.\n5) Get another bonus entry by checking out a pair of demo Bondis from Run Hub any day of the challenge!
URL:https://runhubnw.com/event/hoka-bondi-7-challenge/
LOCATION:OR
ATTACH;FMTTYPE=image/jpeg:https://cdn.runhubnw.com/app/uploads/2020/09/22144057/IMG-4713-scaled.jpg
END:VEVENT
BEGIN:VEVENT
DTSTART;TZID=America/Los_Angeles:20201005T000000
DTEND;TZID=America/Los_Angeles:20201011T235900
DTSTAMP:20260422T144920
CREATED:20201006T004721Z
LAST-MODIFIED:20201006T005433Z
UID:10000895-1601856000-1602460740@runhubnw.com
SUMMARY:New Balance Beacon v3 Challenge
DESCRIPTION:Between Monday\, Oct. 5 and Sunday\, Oct. 11 be sure to run the ‘Run Hub – NB Beacon Dash’ Strava segment from Pearl to Lincoln St on Shelton McMurphy Blvd for the chance to win a pair of the new Beacons!\n\nHow to enter:\nUpload your run to Strava for 1 entry. You can run the segment as part of a longer run\, or you can run only the segment (.38mi).\nTag us and @nbtracksters and use #beaconv3challenge in your Instagram post/story for 3 more entries.\nYou’ll be entered only once (4 tickets max)\, so no need to run it more than once\, but if you want to\, go nuts!\nThe winner will be selected Monday\, Oct. 12.
URL:https://runhubnw.com/event/new-balance-beacon-v3-challenge/
LOCATION:Run Hub Northwest\, 515 High St\, Eugene\, OR\, 97401\, United States
ATTACH;FMTTYPE=image/jpeg:https://cdn.runhubnw.com/app/uploads/2020/10/05174619/120568849_1765774150241230_5145032941404022060_o-e1601945659562.jpg
GEO:44.0539572;-123.0879346
X-APPLE-STRUCTURED-LOCATION;VALUE=URI;X-ADDRESS=Run Hub Northwest 515 High St Eugene OR 97401 United States;X-APPLE-RADIUS=500;X-TITLE=515 High St:geo:-123.0879346,44.0539572
END:VEVENT
BEGIN:VEVENT
DTSTART;TZID=America/Los_Angeles:20201026T000000
DTEND;TZID=America/Los_Angeles:20201031T235900
DTSTAMP:20260422T144920
CREATED:20201021T003659Z
LAST-MODIFIED:20201030T185506Z
UID:10000896-1603670400-1604188740@runhubnw.com
SUMMARY:Virtual Halloween RunVenture
DESCRIPTION:Welcome to Run Hub’s Virtual Halloween RunVenture 2020! This RunVenture includes five separate challenges\, and each of them must be done and posted to your social media on a specific day except one. You can complete one challenge or all five\, just be sure to post your challenges on your Instagram or Facebook page and add the tags @runhubnw and @altrarunning to your post. \nYou’ll get raffle tickets for each challenge you complete and then there will be a prize drawing at the end and a chance to win a pair of Altra shoes and prizes from other local businesses! \n\n\nHere are the challenges! \n\n\n\nThis challenge can be done any day of the week: Stop by Run Hub to check out a pair of Altra demo shoes. Take them with you to try out on a run and post a photo of you in your Altras\, then return them by the end of the week.\nThis challenge must be done on Monday: Post a picture of the spookiest/funniest/most impressive Halloween decoration you see on your run.\nThis challenge must be done on Wednesday: Run to Pioneer Cemetery and share a photo or screenshot documenting your activity. Receive a bonus raffle ticket if you catch the ghost runner in the cemetery between 6-7am or 6-7pm and take a socially distanced photo with them.\nThis challenge must be done on Friday: Friday is for recovering and having fun! Show us how you recover from your runs during the Halloween season. Think favorite pumpkin-flavored drink\, themed snack or scary movie.\nThis challenge must be done on Saturday: Dress in costume and run this spooky route. Take a selfie in front of each of the following businesses along the route. Post a screenshot of your activity and your selfies and tag each business in the pictures. This challenge is worth five tickets! The businesses:\n\n@porterhouseclothing\, 160 E Broadway\n@farmersunionroasters\, 152 W 5th Ave\n@voodoodoughnut\, 20 E Broadway\n@wildlightyogacenter\, 820 Charnelton Street\n@fallingskybrew\, 1334 Oak Alley
URL:https://runhubnw.com/event/virtual-halloween-runventure/
LOCATION:Run Hub Northwest\, 515 High St\, Eugene\, OR\, 97401\, United States
CATEGORIES:RunVenture
GEO:44.0539572;-123.0879346
X-APPLE-STRUCTURED-LOCATION;VALUE=URI;X-ADDRESS=Run Hub Northwest 515 High St Eugene OR 97401 United States;X-APPLE-RADIUS=500;X-TITLE=515 High St:geo:-123.0879346,44.0539572
END:VEVENT
BEGIN:VEVENT
DTSTART;TZID=America/Los_Angeles:20201108T000000
DTEND;TZID=America/Los_Angeles:20201114T235900
DTSTAMP:20260422T144920
CREATED:20201028T224802Z
LAST-MODIFIED:20201106T181428Z
UID:10000897-1604793600-1605398340@runhubnw.com
SUMMARY:Hoka Rocket X Launch Relay
DESCRIPTION:  \n \nRun Hub is hosting a virtual relay with Hoka to celebrate the launch of their newest carbon-plated shoe\, the super light Rocket X! Please fill out this form if you would like to participate. The relay will span a week starting Nov. 8 and participants will be broken up into teams with each team member running a 5K on a different day. Run Hub will assign each participant to a team and will choose a team captain. Be sure to post your run on Instagram and tag @runhubnw and @hokaoneone for a chance to win a pair of Rocket X!
URL:https://runhubnw.com/event/hoka-rocket-x-launch-relay/
LOCATION:Run Hub Northwest\, 515 High St\, Eugene\, OR\, 97401\, United States
CATEGORIES:Event
GEO:44.0539572;-123.0879346
X-APPLE-STRUCTURED-LOCATION;VALUE=URI;X-ADDRESS=Run Hub Northwest 515 High St Eugene OR 97401 United States;X-APPLE-RADIUS=500;X-TITLE=515 High St:geo:-123.0879346,44.0539572
END:VEVENT
BEGIN:VEVENT
DTSTART;VALUE=DATE:20201127
DTEND;VALUE=DATE:20201128
DTSTAMP:20260422T144920
CREATED:20201119T224942Z
LAST-MODIFIED:20201119T233431Z
UID:10000898-1606435200-1606521599@runhubnw.com
SUMMARY:Virtual Run Off the Stuffing
DESCRIPTION:Join us virtually for our annual Run Off the Stuffing run! This fun post-Thanksgiving staple will include a loop on Pre’s Trail. Run the route on Black Friday\, Nov. 27\, and post your activity to social media\, tell us three things you’re thankful for this year\, and tag us. Everyone who participates will receive $10 in Run Hub Bucks to use in the store! \nFor the route\, choose between our 3- or 6-mile community run routes on Pre’s Trail. \n3-mile route. \n6-mile route.
URL:https://runhubnw.com/event/virtual-run-off-the-stuffing/
LOCATION:Pre’s Trail
END:VEVENT
BEGIN:VEVENT
DTSTART;TZID=America/Los_Angeles:20201206T000000
DTEND;TZID=America/Los_Angeles:20201212T235900
DTSTAMP:20260422T144920
CREATED:20201208T191808Z
LAST-MODIFIED:20201208T192029Z
UID:10000899-1607212800-1607817540@runhubnw.com
SUMMARY:Virtual Holiday RunVenture 2020
DESCRIPTION:Get into the holiday spirit with our virtual Holiday RunVenture! Have fun with our running challenges and help us give back to the community. \nAs in year’s past\, Run Hub is sponsoring two families through St. Vincent de Paul’s Holiday Joy program. Donate one or more gifts requested by the families to be entered into the RunVenture prize raffle. Please visit this link to sign up for a gift: https://docs.google.com/…/1CTI…/edit…. Please read the instructions at the top of the page. Thank you all in advance for helping make the holiday special for these families! \nThere will be four running challenges to complete throughout the week (see below). You will get raffle tickets for each challenge you complete and be entered to win a pair of Salomon trail shoes and prizes from other local businesses! You can complete one challenge or all of them. And remember\, to be entered into the prize raffle you must donate a gift! \nThe first challenge: Grab an ornament and take it with you on a run up Mt. Baldy to decorate our Run Hub tree. Tag us and Salomon Running to be entered into the raffle to win some sweet prizes! Optional 5-mile Strava route: http://www.strava.com/routes/2771130201994672862. \nAll week long: Stop by Run Hub to check out a demo pair of the Salomon Sense Ride 3 or Speed Cross 5 to test out on the trails! \nTag us in your  decorating trail posts and demo shoe runs on IG or Facebook and you’ll be entered to win a pair of @salomonrunning Sense Rides and a number of other prizes from Salomon and local businesses.
URL:https://runhubnw.com/event/virtual-holiday-runventure-2020/
LOCATION:Run Hub Northwest\, 515 High St\, Eugene\, OR\, 97401\, United States
CATEGORIES:RunVenture
GEO:44.0539572;-123.0879346
X-APPLE-STRUCTURED-LOCATION;VALUE=URI;X-ADDRESS=Run Hub Northwest 515 High St Eugene OR 97401 United States;X-APPLE-RADIUS=500;X-TITLE=515 High St:geo:-123.0879346,44.0539572
END:VEVENT
BEGIN:VEVENT
DTSTART;TZID=America/Los_Angeles:20210207T000000
DTEND;TZID=America/Los_Angeles:20210213T235900
DTSTAMP:20260422T144920
CREATED:20210203T192841Z
LAST-MODIFIED:20210206T000119Z
UID:10000900-1612656000-1613260740@runhubnw.com
SUMMARY:Virtual Hoka Arahi 5 Challenge
DESCRIPTION:Time to fly … into love with the new Hoka Arahi 5! The week of Feb 7-13\, we invite you to check out a demo pair of the new Arahis from Run Hub. Take them for a spin and post about it on social media\, tagging @runhubnw and @hokaoneone\, to be entered into a raffle drawing to win your own pair of Arahis and other prizes (hint: chocolate). Receive a BONUS raffle ticket if you take the Arahis for a run at Dorris Ranch in Springfield and chalk a love message on the path. Write a message about loving running/walking\, your community\, Hoka\, or the Arahi. Whatever you choose\, spread the love!
URL:https://runhubnw.com/event/virtual-hoka-arahi-5-challenge/
LOCATION:Run Hub Northwest\, 515 High St\, Eugene\, OR\, 97401\, United States
GEO:44.0539572;-123.0879346
X-APPLE-STRUCTURED-LOCATION;VALUE=URI;X-ADDRESS=Run Hub Northwest 515 High St Eugene OR 97401 United States;X-APPLE-RADIUS=500;X-TITLE=515 High St:geo:-123.0879346,44.0539572
END:VEVENT
BEGIN:VEVENT
DTSTART;TZID=America/Los_Angeles:20210314T000000
DTEND;TZID=America/Los_Angeles:20210320T235900
DTSTAMP:20260422T144920
CREATED:20210302T204003Z
LAST-MODIFIED:20210302T204318Z
UID:10000901-1615680000-1616284740@runhubnw.com
SUMMARY:Virtual St. Paddy's Day RunVenture
DESCRIPTION:Join us March 14-20 for virtual St. Paddy’s Day-themed challenges. Complete all four challenges and post about them on social media\, tagging @runhubnw and @on_running. You’ll earn a beer token you can redeem at Coldfire Brewing in Eugene any time and be entered into a raffle for a chance to earn a free pair of On shoes and other prizes! \nThe challenges! \n\nDemo a pair of On shoes. Check out a pair of shoes from Run Hub any time during the week and take them for a spin.\nWrite a running related limerick.\nFind the Pot ‘o Gold. Follow a series of riddles to find the hidden pot of gold in Eugene.\nLeprechaun Run. Go for a run or walk on Pre’s Trail to Rainbow Drive\, where you’ll find a leprechaun. Take a socially-distanced picture with said leprechaun for an extra raffle ticket!\n\nRemember\, complete each challenge and post about it on social media and tag us and On to receive your beer token (which you’ll pick up at Run Hub) and be entered into the prize raffle!
URL:https://runhubnw.com/event/virtual-st-paddys-day-runventure/
LOCATION:Run Hub Northwest\, 515 High St\, Eugene\, OR\, 97401\, United States
CATEGORIES:RunVenture
GEO:44.0539572;-123.0879346
X-APPLE-STRUCTURED-LOCATION;VALUE=URI;X-ADDRESS=Run Hub Northwest 515 High St Eugene OR 97401 United States;X-APPLE-RADIUS=500;X-TITLE=515 High St:geo:-123.0879346,44.0539572
END:VEVENT
BEGIN:VEVENT
DTSTART;TZID=America/Los_Angeles:20210324T000000
DTEND;TZID=America/Los_Angeles:20210330T235900
DTSTAMP:20260422T144920
CREATED:20210324T200951Z
LAST-MODIFIED:20210324T203712Z
UID:10000902-1616544000-1617148740@runhubnw.com
SUMMARY:Mach Mile Madness
DESCRIPTION:💥 Welcome to the Mach Mile Madness challenge! 💥 presented by @hokaoneone and Run Hub! \nDates: March 24-30 \nThere are four Strava mile segments in four regions of Eugene/Springfield. You may compete on any or all of segments. However\, we will only count your fastest time for advancing to the Elite 8. 🏃🏽‍♀️🏃🏼‍♂️ \nFor each segment you run\, post a screenshot of your activity on social media\, tag @runhubnw and @hokaoneone\, and you’ll receive a raffle ticket into our drawing for a free pair of Hoka Machs. 💨 \nYou’ll receive a bonus raffle ticket for checking out a pair of Machs from the shop and trying them out on a run. 🎟️ \n🔥 On March 31\, the two fastest people to run each segment will advance to the Elite 8 challenge for a chance to run a fifth segment (to be announced) and compete to win the Mach Mile Championship. The champion will receive a $150 Run Hub gift card. 🔥 \nThe Segments! \n⚡North: Begins at the intersection of Willagillespie Road and Cal Young Road and travels east on Cal Young toward Oakway Road.\n⚡South: Begins on the Rexius Trail at the intersection of E Amazon Drive and Dillard Road and travels north to Hilyard Street.\n⚡East: Begins at the Booth-Kelly Trailhead in Springfield and travels east on the Mill Race Path toward South 28th Street.\n⚡West: Begins on the Fern Ridge Path at the intersection of Greenhill Road and Royal Avenue and travels southeast through the Meadowlark Prairie.
URL:https://runhubnw.com/event/mach-mile-madness/
LOCATION:Run Hub Northwest\, 515 High St\, Eugene\, OR\, 97401\, United States
CATEGORIES:Clinic/Demo
GEO:44.0539572;-123.0879346
X-APPLE-STRUCTURED-LOCATION;VALUE=URI;X-ADDRESS=Run Hub Northwest 515 High St Eugene OR 97401 United States;X-APPLE-RADIUS=500;X-TITLE=515 High St:geo:-123.0879346,44.0539572
END:VEVENT
BEGIN:VEVENT
DTSTART;TZID=America/Los_Angeles:20210517T000000
DTEND;TZID=America/Los_Angeles:20210522T235900
DTSTAMP:20260422T144920
CREATED:20210428T185119Z
LAST-MODIFIED:20210505T001710Z
UID:10000778-1621209600-1621727940@runhubnw.com
SUMMARY:Altra Lone Peak Vertical Challenge
DESCRIPTION:Join in our challenge to run or hike to the summits of several local trails. For each summit you do and post about on social media\, you’ll get a ticket into our raffle for a free pair of Altra Lone Peak 5 or Timp 3 trail shoes. Be sure to tag @runhubnw and @altrarunning in your post! \nReceive a bonus raffle ticket if you stop by Run Hub during the week of May 17-22 to check out a demo pair of the new Lone Peak 5 trail shoe. \nThe two people who run or hike the most vertical feet during the week will be eligible for another prize! \nThese are the summits:\n⛰️Skinner Butte\n⛰️Spencer Butte\n⛰️Mount Pisgah\n⛰️Wild Iris Ridge
URL:https://runhubnw.com/event/altra-lone-peak-vertical-challenge/
LOCATION:Run Hub Northwest\, 515 High St\, Eugene\, OR\, 97401\, United States
CATEGORIES:Clinic/Demo
ATTACH;FMTTYPE=image/jpeg:https://cdn.runhubnw.com/app/uploads/2021/04/28115019/Lone-Peak-1.jpg
GEO:44.0539572;-123.0879346
X-APPLE-STRUCTURED-LOCATION;VALUE=URI;X-ADDRESS=Run Hub Northwest 515 High St Eugene OR 97401 United States;X-APPLE-RADIUS=500;X-TITLE=515 High St:geo:-123.0879346,44.0539572
END:VEVENT
BEGIN:VEVENT
DTSTART;TZID=America/Los_Angeles:20210522T080000
DTEND;TZID=America/Los_Angeles:20210522T130000
DTSTAMP:20260422T144920
CREATED:20210428T190423Z
LAST-MODIFIED:20210428T190535Z
UID:10000780-1621670400-1621688400@runhubnw.com
SUMMARY:Destination Trail Run: King's Castle
DESCRIPTION:Destination Trail Runs are back!\n\n\nWith our first trail run back we have a special treat for you. On will be there to demo trail shoes to anyone who would like to try a pair on their run. On has some pretty sweet trail shoes with the Cloudventure\, Cloudventure Peak\, and Cloudultra. Want waterproof shoes? On has got you covered with their Cloudventure waterproof trail shoe.\n\nLastly\, the route we will be running is the same route that the Storm The Castle Half Marathon will be on! This is a brand new race on November 27th\, 2021. If you fall in love with the trail\, which I know you will then check this race out in November. For more info of the race please visit https://elevatedtrailracing.com/.\n\nDetails for the group trail run below:\n8:00 AM: Meet at Run Hub to drive to location. Please bring masks. We will all be wearing masks when not being six feet a part from one another.\n\n9:00 AM: Arrive at the Kings castle trailhead. Address: 54754 King Rd E\, Blue River\, OR 97413.\nWe will run up on the Kings Castle trail. Once we get to a T section in the trail we will take a right on the Castle Rock Trail. This will take us all of the way to the summit where you will have gorgeous 360 degree views of the surrounding mountains including the sisters mountains. The entire run will be about 11.5 miles and will have around 2\,800 feet of vert.\n\nRunners are welcome to do a shorter run and turnaround at the gravel road crossing. This would be around a 10k out and back run.\n\n12:00 PM: If anyone is interested and comfortable we will meet at Takodas to eat and drink.\n\nI look forward to running with you all again! Come out and try on a pair of Ons\, enjoy a beautiful trail\, and stay for lunch at Takodas for a pint and delicious food!
URL:https://runhubnw.com/event/destination-trail-run-kings-castle/
LOCATION:Run Hub Northwest\, 515 High St\, Eugene\, OR\, 97401\, United States
CATEGORIES:Trail Run
ATTACH;FMTTYPE=image/jpeg:https://cdn.runhubnw.com/app/uploads/2021/04/28120445/172233692_1947852325366744_582581760116351174_n.jpg
GEO:44.0539572;-123.0879346
X-APPLE-STRUCTURED-LOCATION;VALUE=URI;X-ADDRESS=Run Hub Northwest 515 High St Eugene OR 97401 United States;X-APPLE-RADIUS=500;X-TITLE=515 High St:geo:-123.0879346,44.0539572
END:VEVENT
END:VCALENDAR