BEGIN:VCALENDAR
VERSION:2.0
PRODID:-//Run Hub Northwest - ECPv6.15.17.1//NONSGML v1.0//EN
CALSCALE:GREGORIAN
METHOD:PUBLISH
X-WR-CALNAME:Run Hub Northwest
X-ORIGINAL-URL:https://runhubnw.com
X-WR-CALDESC:Events for Run Hub Northwest
REFRESH-INTERVAL;VALUE=DURATION:PT1H
X-Robots-Tag:noindex
X-PUBLISHED-TTL:PT1H
BEGIN:VTIMEZONE
TZID:America/Los_Angeles
BEGIN:DAYLIGHT
TZOFFSETFROM:-0800
TZOFFSETTO:-0700
TZNAME:PDT
DTSTART:20200308T100000
END:DAYLIGHT
BEGIN:STANDARD
TZOFFSETFROM:-0700
TZOFFSETTO:-0800
TZNAME:PST
DTSTART:20201101T090000
END:STANDARD
BEGIN:DAYLIGHT
TZOFFSETFROM:-0800
TZOFFSETTO:-0700
TZNAME:PDT
DTSTART:20210314T100000
END:DAYLIGHT
BEGIN:STANDARD
TZOFFSETFROM:-0700
TZOFFSETTO:-0800
TZNAME:PST
DTSTART:20211107T090000
END:STANDARD
BEGIN:DAYLIGHT
TZOFFSETFROM:-0800
TZOFFSETTO:-0700
TZNAME:PDT
DTSTART:20220313T100000
END:DAYLIGHT
BEGIN:STANDARD
TZOFFSETFROM:-0700
TZOFFSETTO:-0800
TZNAME:PST
DTSTART:20221106T090000
END:STANDARD
END:VTIMEZONE
BEGIN:VEVENT
DTSTART;TZID=America/Los_Angeles:20210623T070000
DTEND;TZID=America/Los_Angeles:20210623T090000
DTSTAMP:20260422T135437
CREATED:20210616T201245Z
LAST-MODIFIED:20210616T213443Z
UID:10000786-1624431600-1624438800@runhubnw.com
SUMMARY:Passport Run: Pre's Trail with HOKA ONE ONE
DESCRIPTION:Meet us at Run Hub\, 515 High St in Eugene\, for a run on the iconic wood-chipped Pre’s Trail. Start at the store for a 3- or 6-mile loop\, during which you’ll enjoy views of Alton Baker Park\, the Willamette River and Autzen Stadium. Refreshments will be provided by HOKA ONE ONE afterward! \nEach day of the Trials\, we’ll be at a different location on our printed passport (pick one up at the shop or at a Passport Run!) from 7-9 a.m. Run that route on that morning and a staff member will be there to stamp your passport! \nIf you can’t make it\, be sure to take a photo or video of your run\, tag @runhubnw on Facebook or Instagram and we’ll consider that your stamp for the run. Complete all the runs with your passport stamped and you’ll get a limited edition Run Eugene tech tee from Run Hub!
URL:https://runhubnw.com/event/passport-run-pres-trail/
LOCATION:Run Hub Northwest\, 515 High St\, Eugene\, OR\, 97401\, United States
CATEGORIES:Group Run
GEO:44.0539572;-123.0879346
X-APPLE-STRUCTURED-LOCATION;VALUE=URI;X-ADDRESS=Run Hub Northwest 515 High St Eugene OR 97401 United States;X-APPLE-RADIUS=500;X-TITLE=515 High St:geo:-123.0879346,44.0539572
END:VEVENT
BEGIN:VEVENT
DTSTART;TZID=America/Los_Angeles:20210624T070000
DTEND;TZID=America/Los_Angeles:20210624T090000
DTSTAMP:20260422T135437
CREATED:20210616T202747Z
LAST-MODIFIED:20210616T204218Z
UID:10000787-1624518000-1624525200@runhubnw.com
SUMMARY:Passport Run: Ruth Bascom River Path
DESCRIPTION:Join us at Run Hub\, 515 High Street\, for a run on the Ruth Bascom River Path\, a paved path that follows the Willamette River through Eugene. Run a 4- or 8-mile loop while you enjoy views of the river. \nEach day of the Trials\, we’ll be at a different location on our printed passport (pick one up at the shop or at a Passport Run!) from 7-9 a.m. Run that route on that morning and a staff member will be there to stamp your passport! \nIf you can’t make it\, be sure to take a photo or video of your run\, tag @runhubnw on Facebook or Instagram and we’ll consider that your stamp for the run. Complete all the runs with your passport stamped and you’ll get a limited edition Run Eugene tech tee from Run Hub!
URL:https://runhubnw.com/event/passport-run-ruth-bascom-river-path/
LOCATION:Run Hub Northwest\, 515 High St\, Eugene\, OR\, 97401\, United States
CATEGORIES:Group Run
GEO:44.0539572;-123.0879346
X-APPLE-STRUCTURED-LOCATION;VALUE=URI;X-ADDRESS=Run Hub Northwest 515 High St Eugene OR 97401 United States;X-APPLE-RADIUS=500;X-TITLE=515 High St:geo:-123.0879346,44.0539572
END:VEVENT
BEGIN:VEVENT
DTSTART;TZID=America/Los_Angeles:20210625T070000
DTEND;TZID=America/Los_Angeles:20210625T090000
DTSTAMP:20260422T135437
CREATED:20210616T203421Z
LAST-MODIFIED:20210616T213816Z
UID:10000788-1624604400-1624611600@runhubnw.com
SUMMARY:Passport Run: Pre's Rock with On
DESCRIPTION:Meet at the On booth at Tom’s Market\,  1490 E 19th Ave in Eugene\, for an ~3 mile loop run to Pre’s Rock and back. Pre’s Rock\, a memorial to iconic University of Oregon runner and Olympian Steve Prefontaine\, marks the site where he died in 1975. \nEach day of the Trials\, we’ll be at a different location on our printed passport (pick one up at the shop or at a Passport Run!) from 7-9 a.m. Run that route on that morning and a staff member will be there to stamp your passport! \nIf you can’t make it\, be sure to take a photo or video of your run\, tag @runhubnw on Facebook or Instagram and we’ll consider that your stamp for the run. Complete all the runs with your passport stamped and you’ll get a limited edition Run Eugene tech tee from Run Hub!
URL:https://runhubnw.com/event/passport-run-pres-rock/
LOCATION:Tom’s Market\, 1490 E 19th Ave\, Eugene\, OR\, 97403\, United States
CATEGORIES:Group Run
GEO:44.0387561;-123.0700803
X-APPLE-STRUCTURED-LOCATION;VALUE=URI;X-ADDRESS=Tom’s Market 1490 E 19th Ave Eugene OR 97403 United States;X-APPLE-RADIUS=500;X-TITLE=1490 E 19th Ave:geo:-123.0700803,44.0387561
END:VEVENT
BEGIN:VEVENT
DTSTART;TZID=America/Los_Angeles:20210625T180000
DTEND;TZID=America/Los_Angeles:20210625T200000
DTSTAMP:20260422T135437
CREATED:20210616T212731Z
LAST-MODIFIED:20210616T213906Z
UID:10000907-1624644000-1624651200@runhubnw.com
SUMMARY:Movie Night with HOKA: 'A Time and a Place'
DESCRIPTION:Join us at Alton Baker Park at 6pm to watch the documentary on the Northern Arizona Elite marathon team as they prepare for and race the 2020 Olympic Marathon Trials. The film was produced by Stephen Kersh and Ryan Sterner. NAZ Elite Coach Ben Rosario and athlete Scott Fauble will be present to answer questions. \nMeet near shelter #2\, the larger shelter of the two at Alton Baker. Enjoy Picky Bars samples during the movie. Please bring a blanket or comfy chair to sit on. RSVP requested at https://hokanazelitemovienight.splashthat.com/.
URL:https://runhubnw.com/event/movie-night-with-hoka-a-time-and-a-place/
LOCATION:Alton Baker Park\, 200 Day Island Rd\, Eugene\, OR\, 97401\, United States
CATEGORIES:Event
GEO:44.054978;-123.0795561
X-APPLE-STRUCTURED-LOCATION;VALUE=URI;X-ADDRESS=Alton Baker Park 200 Day Island Rd Eugene OR 97401 United States;X-APPLE-RADIUS=500;X-TITLE=200 Day Island Rd:geo:-123.0795561,44.054978
END:VEVENT
BEGIN:VEVENT
DTSTART;TZID=America/Los_Angeles:20210626T080000
DTEND;TZID=America/Los_Angeles:20210626T100000
DTSTAMP:20260422T135437
CREATED:20210616T210351Z
LAST-MODIFIED:20210616T213641Z
UID:10000903-1624694400-1624701600@runhubnw.com
SUMMARY:Passport Run: Mt Pisgah with HOKA ONE ONE
DESCRIPTION:Join us at Mt. Pisgah for an ~4- or ~8-mile loop trail run through lush forest. Meet in the parking lot at Howard Buford Recreation Area\, where you will need to purchase a Lane County Parks single-day parking pass for $5. You can purchase this pass from a machine at the trailhead\, but keep in mind the machine only accepts cards. \nHOKA ONE ONE will be providing demo shoes at the trail! Try out the Speedgoat 4 trail shoe or all new Clifton 8 on your run. \nEach day of the Trials\, we’ll be at a different location on our printed passport (pick one up at the shop or at a Passport Run!) from 7-9 a.m. Run that route on that morning and a staff member will be there to stamp your passport! \nIf you can’t make it\, be sure to take a photo or video of your run\, tag @runhubnw on Facebook or Instagram and we’ll consider that your stamp for the run. Complete all the runs with your passport stamped and you’ll get a limited edition Run Eugene tech tee from Run Hub!
URL:https://runhubnw.com/event/passport-run-mt-pisgah/
LOCATION:Howard Buford Recreation Area\, 34901 Frank Parrish Rd\, Eugene\, OR\, 97405\, United States
CATEGORIES:Group Run
GEO:44.0068768;-122.9803869
X-APPLE-STRUCTURED-LOCATION;VALUE=URI;X-ADDRESS=Howard Buford Recreation Area 34901 Frank Parrish Rd Eugene OR 97405 United States;X-APPLE-RADIUS=500;X-TITLE=34901 Frank Parrish Rd:geo:-122.9803869,44.0068768
END:VEVENT
BEGIN:VEVENT
DTSTART;TZID=America/Los_Angeles:20210627T070000
DTEND;TZID=America/Los_Angeles:20210627T090000
DTSTAMP:20260422T135437
CREATED:20210616T211046Z
LAST-MODIFIED:20210616T211046Z
UID:10000904-1624777200-1624784400@runhubnw.com
SUMMARY:Passport Run: Mt Baldy
DESCRIPTION:Join us at Mt. Baldy in Eugene’s southern hills for a fun and challenging run. You’ll endure steep climbs but be rewarded with extensive views through prairie\, oak and fir habitats. Enjoy an overlook of Eugene at the summit as you run one or more 2.5-mile loops. \nEach day of the Trials\, we’ll be at a different location on our printed passport (pick one up at the shop or at a Passport Run!) from 7-9 a.m. Run that route on that morning and a staff member will be there to stamp your passport! \nIf you can’t make it\, be sure to take a photo or video of your run\, tag @runhubnw on Facebook or Instagram and we’ll consider that your stamp for the run. Complete all the runs with your passport stamped and you’ll get a limited edition Run Eugene tech tee from Run Hub!
URL:https://runhubnw.com/event/passport-run-mt-baldy/
LOCATION:Mt Baldy\, 32543 Mt Baldy Ln\, Eugene\, OR\, 97405\, United States
CATEGORIES:Group Run
GEO:43.996794;-123.0594749
X-APPLE-STRUCTURED-LOCATION;VALUE=URI;X-ADDRESS=Mt Baldy 32543 Mt Baldy Ln Eugene OR 97405 United States;X-APPLE-RADIUS=500;X-TITLE=32543 Mt Baldy Ln:geo:-123.0594749,43.996794
END:VEVENT
BEGIN:VEVENT
DTSTART;TZID=America/Los_Angeles:20210731T080000
DTEND;TZID=America/Los_Angeles:20210731T160000
DTSTAMP:20260422T135437
CREATED:20210712T195929Z
LAST-MODIFIED:20210729T003600Z
UID:10000908-1627718400-1627747200@runhubnw.com
SUMMARY:Destination Trail Run: McKenzie River Trail Run and Raft
DESCRIPTION:Destination Trail Runs are back in full force!Come Join us for our annual run and raft trip on the McKenzie River! Run on the McKenzie River Trail and then choose whether to stay for lunch and a guided rafting trip on the river. NOTE: You must sign up ahead of time for the raft trip.THE TRAIL RUNWe’ll meet at Run Hub at 8 a.m. and leave by 8:15 a.m. to head to the Paradise campground boat launch\, arriving by about 9:30 a.m. There will be people choosing just to run or run and raft\, so we can determine carpools prior to leaving Run Hub.THE SHUTTLEOur friends at Horse Creek Lodge offer a shuttle service to transport us upriver from Paradise so we can do a point-to-point run with options of 6 or 12 miles. Shuttling is $5 to cover staffing and gas for shuttles. Please email reservations@horse-creek.com or call 541-822-3243 to reserve your spot on the shuttle bus!LUNCHAfter the 1-2+ hr trail run (depending which distance you choose)\, we’ll plan on using the picnic tables to have lunch at Paradise campground. Note: you provide your own lunch.RAFTINGAfter lunch\, those who signed up for rafting will suit up in booties and wet suits and get going about 1-1:30 p.m. The raft trip is about 3 hours of floating on the river and includes snacks and a shuttle back to Paradise for $65. If you plan on rafting you can use coupon code runhubrnr for a discount. If you plan to raft PLEASE BOOK YOUR SPOT EARLY so that they can plan ahead for enough rafts and guides. The rafting cost includes your trail run shuttle fee.BOOK YOUR RAFT TRIP AT: https://www.adventurecentral.com/…/wfAdventureWeb.aspx…click “Book Now” below the half day option. Select July 31 on the calendar and choose the 1:30 option\, even though our group might get going sooner. We’ll assume that those who are rafting will also be shuttling back to Paradise campground too.CAMPINGInterested in making it a weekend and camping at Horse Creek Lodge on July 30th or 31st? There are a limited number of campsites available for $25/night. Email reservations@horse-creek.com to reserve a spot.Questions? Email info@runhubnw.com or call the store at 541-344-1239. 
URL:https://runhubnw.com/event/destination-trail-run-mckenzie-river-run-and-raft/
LOCATION:Run Hub Northwest\, 515 High St\, Eugene\, OR\, 97401\, United States
ATTACH;FMTTYPE=image/jpeg:https://cdn.runhubnw.com/app/uploads/2021/07/12130941/216350711_2002741446544498_2913119471415940049_n.jpg
GEO:44.0539572;-123.0879346
X-APPLE-STRUCTURED-LOCATION;VALUE=URI;X-ADDRESS=Run Hub Northwest 515 High St Eugene OR 97401 United States;X-APPLE-RADIUS=500;X-TITLE=515 High St:geo:-123.0879346,44.0539572
END:VEVENT
BEGIN:VEVENT
DTSTART;TZID=America/Los_Angeles:20210822T073000
DTEND;TZID=America/Los_Angeles:20210822T103000
DTSTAMP:20260422T135437
CREATED:20210729T002840Z
LAST-MODIFIED:20210729T002844Z
UID:10000909-1629617400-1629628200@runhubnw.com
SUMMARY:Butte to Butte Finish Line Party
DESCRIPTION:The Butte to Butte is back! Join us at the shop for a cheering party. We’ll provide all the coffee and donuts you need to cheer for your favorite runners. Or join us after you’ve finished the race!The finish line will be on 5th Street\, between High and Pearl streets\, so we’re in the perfect position to see runners make their final sprints.Race Start Times:7:30 am 5K8:00 am 10K​8:30 am 4 Mile Mayor’s Fitness Walk
URL:https://runhubnw.com/event/butte-to-butte-finish-line-party/
LOCATION:Run Hub Northwest\, 515 High St\, Eugene\, OR\, 97401\, United States
CATEGORIES:Race
ATTACH;FMTTYPE=image/jpeg:https://cdn.runhubnw.com/app/uploads/2021/07/03134046/66047818_1341665189318797_6822995019339661312_n.jpg
GEO:44.0539572;-123.0879346
X-APPLE-STRUCTURED-LOCATION;VALUE=URI;X-ADDRESS=Run Hub Northwest 515 High St Eugene OR 97401 United States;X-APPLE-RADIUS=500;X-TITLE=515 High St:geo:-123.0879346,44.0539572
END:VEVENT
BEGIN:VEVENT
DTSTART;TZID=America/Los_Angeles:20210828T080000
DTEND;TZID=America/Los_Angeles:20210828T150000
DTSTAMP:20260422T135437
CREATED:20210816T215226Z
LAST-MODIFIED:20210817T012343Z
UID:10000910-1630137600-1630162800@runhubnw.com
SUMMARY:Destination Trail Run: Cape Mountain on the Oregon Coast
DESCRIPTION:Let’s get away from the smoke and enjoy a forest run on the coast! We will meet at Run Hub at 8 AM and head out by 8:15 AM. You can also meet us there if you’d like. It is roughly a 90-minute drive\, so we will be there around 10:00 AM. We will have three distance loop options for everyone to do varying lengths. Afterward we will enjoy a cold one and some food at one of the local breweries in Florence!  \n\n\n\nMore details below: \n\n\n\n8:00 AM: Meet at Run Hub10:00 AM: Meet at the Dry Lake Horse camp trail head. Address: 5261-65461 NF-789\, Florence\, OR 9743910:00 AM-12:00 PM: Run some gorgeous trails!12:00 PM: Meet at the Homegrown Public House and Brewery. Address: 294 Laurel St\, Florence\, OR 97439
URL:https://runhubnw.com/event/destination-trail-run-cape-mountain-on-the-oregon-coast-3/
LOCATION:Run Hub Northwest\, 515 High St\, Eugene\, OR\, 97401\, United States
CATEGORIES:Trail Run
ATTACH;FMTTYPE=image/jpeg:https://cdn.runhubnw.com/app/uploads/2021/08/16182230/236768176_2032344886917487_708420155729495310_n.jpg
GEO:44.0539572;-123.0879346
X-APPLE-STRUCTURED-LOCATION;VALUE=URI;X-ADDRESS=Run Hub Northwest 515 High St Eugene OR 97401 United States;X-APPLE-RADIUS=500;X-TITLE=515 High St:geo:-123.0879346,44.0539572
END:VEVENT
END:VCALENDAR