BEGIN:VCALENDAR
VERSION:2.0
PRODID:-//Run Hub Northwest - ECPv6.15.17.1//NONSGML v1.0//EN
CALSCALE:GREGORIAN
METHOD:PUBLISH
X-WR-CALNAME:Run Hub Northwest
X-ORIGINAL-URL:https://runhubnw.com
X-WR-CALDESC:Events for Run Hub Northwest
REFRESH-INTERVAL;VALUE=DURATION:PT1H
X-Robots-Tag:noindex
X-PUBLISHED-TTL:PT1H
BEGIN:VTIMEZONE
TZID:America/Los_Angeles
BEGIN:DAYLIGHT
TZOFFSETFROM:-0800
TZOFFSETTO:-0700
TZNAME:PDT
DTSTART:20210314T100000
END:DAYLIGHT
BEGIN:STANDARD
TZOFFSETFROM:-0700
TZOFFSETTO:-0800
TZNAME:PST
DTSTART:20211107T090000
END:STANDARD
BEGIN:DAYLIGHT
TZOFFSETFROM:-0800
TZOFFSETTO:-0700
TZNAME:PDT
DTSTART:20220313T100000
END:DAYLIGHT
BEGIN:STANDARD
TZOFFSETFROM:-0700
TZOFFSETTO:-0800
TZNAME:PST
DTSTART:20221106T090000
END:STANDARD
BEGIN:DAYLIGHT
TZOFFSETFROM:-0800
TZOFFSETTO:-0700
TZNAME:PDT
DTSTART:20230312T100000
END:DAYLIGHT
BEGIN:STANDARD
TZOFFSETFROM:-0700
TZOFFSETTO:-0800
TZNAME:PST
DTSTART:20231105T090000
END:STANDARD
END:VTIMEZONE
BEGIN:VEVENT
DTSTART;TZID=America/Los_Angeles:20220119T180000
DTEND;TZID=America/Los_Angeles:20220119T193000
DTSTAMP:20260422T062422
CREATED:20220114T011516Z
LAST-MODIFIED:20220114T011517Z
UID:10000798-1642615200-1642620600@runhubnw.com
SUMMARY:Eugene Marathon Raffle Run!
DESCRIPTION:Interested in signing up for the Eugene Half or Full Marathon but haven’t yet? Or signed up already but want the chance to win free EM merchandise? Make sure you attend this community run\, where you can find a special deal on the Eugene Half or Full Marathon when you sign up THIS NIGHT ONLY (plus free merch)\, and drawings for all attendees raffling off Eugene Marathon Boco hats and beanies! Drawings will occur after the run\, so make sure to hang around! \n\n\n\nRun Hub community runs are free and open to anyone! All paces\, abilities\, children and dogs are welcome for this 3- or 5-mile fun run on the Willamette River path. Please wear lights or reflective gear for safety.
URL:https://runhubnw.com/event/eugene-marathon-raffle-run/
LOCATION:Run Hub Northwest\, 515 High St\, Eugene\, OR\, 97401\, United States
CATEGORIES:Group Run
ATTACH;FMTTYPE=image/jpeg:https://cdn.runhubnw.com/app/uploads/2019/05/08115902/58886954_10214073040923316_8644786066013814784_o.jpg
GEO:44.0539572;-123.0879346
X-APPLE-STRUCTURED-LOCATION;VALUE=URI;X-ADDRESS=Run Hub Northwest 515 High St Eugene OR 97401 United States;X-APPLE-RADIUS=500;X-TITLE=515 High St:geo:-123.0879346,44.0539572
END:VEVENT
BEGIN:VEVENT
DTSTART;TZID=America/Los_Angeles:20220129T090000
DTEND;TZID=America/Los_Angeles:20220129T103000
DTSTAMP:20260422T062422
CREATED:20220111T013503Z
LAST-MODIFIED:20220111T014102Z
UID:10000797-1643446800-1643452200@runhubnw.com
SUMMARY:Plogging and Hot Cocoa with HOKA
DESCRIPTION:Demo HOKA shoes while giving back to the community by picking up litter along the Willamette River Path! \n\n\n\nOur HOKA rep will bring shoes to demo. After snagging some shoes\, we’ll split up into small groups and head north and south on the river path to pick up trash. Trash bags and gloves will be provided. \n\n\n\nAfterwards\, we’ll gather at Run Hub for hot cocoa!
URL:https://runhubnw.com/event/plogging-and-hot-cocoa-with-hoka/
LOCATION:Run Hub Northwest\, 515 High St\, Eugene\, OR\, 97401\, United States
CATEGORIES:Clinic/Demo
ATTACH;FMTTYPE=image/jpeg:https://cdn.runhubnw.com/app/uploads/2021/09/10173855/download-4-e1641865170129.jpg
GEO:44.0539572;-123.0879346
X-APPLE-STRUCTURED-LOCATION;VALUE=URI;X-ADDRESS=Run Hub Northwest 515 High St Eugene OR 97401 United States;X-APPLE-RADIUS=500;X-TITLE=515 High St:geo:-123.0879346,44.0539572
END:VEVENT
BEGIN:VEVENT
DTSTART;TZID=America/Los_Angeles:20220209T180000
DTEND;TZID=America/Los_Angeles:20220209T200000
DTSTAMP:20260422T062422
CREATED:20150508T023046Z
LAST-MODIFIED:20241016T192618Z
UID:10000647-1644429600-1644436800@runhubnw.com
SUMMARY:Community Group Run
DESCRIPTION:Join us every Wednesday for a laid-back\, fun run. We meet in front of Run Hub at 515 High Street. Runners and walkers can choose to go 3 or 5 miles at a range of speeds (seriously). Anyone and everyone is welcome\, including small persons in strollers and our four legged-friends. \nWinter 3-mile routeWinter 5-mile route
URL:https://runhubnw.com/event/community-group-run/2022-02-09/
LOCATION:Run Hub Northwest\, 515 High St\, Eugene\, OR\, 97401\, United States
CATEGORIES:Group Run
ATTACH;FMTTYPE=image/jpeg:https://cdn.runhubnw.com/app/uploads/2022/10/17183001/IMG_0003-crop.jpg
GEO:44.0539572;-123.0879346
X-APPLE-STRUCTURED-LOCATION;VALUE=URI;X-ADDRESS=Run Hub Northwest 515 High St Eugene OR 97401 United States;X-APPLE-RADIUS=500;X-TITLE=515 High St:geo:-123.0879346,44.0539572
END:VEVENT
BEGIN:VEVENT
DTSTART;TZID=America/Los_Angeles:20220216T180000
DTEND;TZID=America/Los_Angeles:20220216T200000
DTSTAMP:20260422T062422
CREATED:20150508T023046Z
LAST-MODIFIED:20241016T192618Z
UID:10000648-1645034400-1645041600@runhubnw.com
SUMMARY:Community Group Run
DESCRIPTION:Join us every Wednesday for a laid-back\, fun run. We meet in front of Run Hub at 515 High Street. Runners and walkers can choose to go 3 or 5 miles at a range of speeds (seriously). Anyone and everyone is welcome\, including small persons in strollers and our four legged-friends. \nWinter 3-mile routeWinter 5-mile route
URL:https://runhubnw.com/event/community-group-run/2022-02-16/
LOCATION:Run Hub Northwest\, 515 High St\, Eugene\, OR\, 97401\, United States
CATEGORIES:Group Run
ATTACH;FMTTYPE=image/jpeg:https://cdn.runhubnw.com/app/uploads/2022/10/17183001/IMG_0003-crop.jpg
GEO:44.0539572;-123.0879346
X-APPLE-STRUCTURED-LOCATION;VALUE=URI;X-ADDRESS=Run Hub Northwest 515 High St Eugene OR 97401 United States;X-APPLE-RADIUS=500;X-TITLE=515 High St:geo:-123.0879346,44.0539572
END:VEVENT
BEGIN:VEVENT
DTSTART;TZID=America/Los_Angeles:20220223T163000
DTEND;TZID=America/Los_Angeles:20220223T193000
DTSTAMP:20260422T062422
CREATED:20220208T234605Z
LAST-MODIFIED:20220225T224409Z
UID:10000915-1645633800-1645644600@runhubnw.com
SUMMARY:2022 Race Sign Up Palooza
DESCRIPTION:Wednesday\, Feb. 23\, 4:30-7:30 PM \n\n\n\nLet us help you plan your races for 2022! We’ll have local race directors at the shop to answer your questions and sign you up for 2022 races. Enjoy race promotions\, raffle prizes and encouragement from running friends! \n\n\n\nWe’ll have our regularly scheduled community run start at 6 PM. Come early or stay after to meet with race directors! \n\n\n\nElevated Trail Racing will be offering 15% off all races if you sign up during the event.  \n\n\n\nOregon Trail Runs is offering 15% off races if you sign up before March 1\, and will also be raffling off entries for its Spring Fling Trail Run and Marys Peak Trail Run. \n\n\n\nLevel 32 Racing will be raffling off two entries for its Lucky Clover 10K/5K and one entry for the Shotgun Trail Blast 5K or 10K. \n\n\n\nSpringfield Twin Rivers Rotary will be raffling off two entries to its prom-themed 5K race on April 16.
URL:https://runhubnw.com/event/2022-race-sign-up-palooza/
LOCATION:Run Hub Northwest\, 515 High St\, Eugene\, OR\, 97401\, United States
CATEGORIES:Event
ATTACH;FMTTYPE=image/jpeg:https://cdn.runhubnw.com/app/uploads/2022/02/08153720/123118912_1793027107515934_4200728325989619140_n.jpg
GEO:44.0539572;-123.0879346
X-APPLE-STRUCTURED-LOCATION;VALUE=URI;X-ADDRESS=Run Hub Northwest 515 High St Eugene OR 97401 United States;X-APPLE-RADIUS=500;X-TITLE=515 High St:geo:-123.0879346,44.0539572
END:VEVENT
BEGIN:VEVENT
DTSTART;TZID=America/Los_Angeles:20220223T180000
DTEND;TZID=America/Los_Angeles:20220223T200000
DTSTAMP:20260422T062422
CREATED:20150508T023046Z
LAST-MODIFIED:20241016T192618Z
UID:10000649-1645639200-1645646400@runhubnw.com
SUMMARY:Community Group Run
DESCRIPTION:Join us every Wednesday for a laid-back\, fun run. We meet in front of Run Hub at 515 High Street. Runners and walkers can choose to go 3 or 5 miles at a range of speeds (seriously). Anyone and everyone is welcome\, including small persons in strollers and our four legged-friends. \nWinter 3-mile routeWinter 5-mile route
URL:https://runhubnw.com/event/community-group-run/2022-02-23/
LOCATION:Run Hub Northwest\, 515 High St\, Eugene\, OR\, 97401\, United States
CATEGORIES:Group Run
ATTACH;FMTTYPE=image/jpeg:https://cdn.runhubnw.com/app/uploads/2022/10/17183001/IMG_0003-crop.jpg
GEO:44.0539572;-123.0879346
X-APPLE-STRUCTURED-LOCATION;VALUE=URI;X-ADDRESS=Run Hub Northwest 515 High St Eugene OR 97401 United States;X-APPLE-RADIUS=500;X-TITLE=515 High St:geo:-123.0879346,44.0539572
END:VEVENT
BEGIN:VEVENT
DTSTART;TZID=America/Los_Angeles:20220302T180000
DTEND;TZID=America/Los_Angeles:20220302T200000
DTSTAMP:20260422T062422
CREATED:20150508T023046Z
LAST-MODIFIED:20241016T192618Z
UID:10000650-1646244000-1646251200@runhubnw.com
SUMMARY:Community Group Run
DESCRIPTION:Join us every Wednesday for a laid-back\, fun run. We meet in front of Run Hub at 515 High Street. Runners and walkers can choose to go 3 or 5 miles at a range of speeds (seriously). Anyone and everyone is welcome\, including small persons in strollers and our four legged-friends. \nWinter 3-mile routeWinter 5-mile route
URL:https://runhubnw.com/event/community-group-run/2022-03-02/
LOCATION:Run Hub Northwest\, 515 High St\, Eugene\, OR\, 97401\, United States
CATEGORIES:Group Run
ATTACH;FMTTYPE=image/jpeg:https://cdn.runhubnw.com/app/uploads/2022/10/17183001/IMG_0003-crop.jpg
GEO:44.0539572;-123.0879346
X-APPLE-STRUCTURED-LOCATION;VALUE=URI;X-ADDRESS=Run Hub Northwest 515 High St Eugene OR 97401 United States;X-APPLE-RADIUS=500;X-TITLE=515 High St:geo:-123.0879346,44.0539572
END:VEVENT
BEGIN:VEVENT
DTSTART;TZID=America/Los_Angeles:20220309T180000
DTEND;TZID=America/Los_Angeles:20220309T200000
DTSTAMP:20260422T062422
CREATED:20150508T023046Z
LAST-MODIFIED:20241016T192618Z
UID:10000651-1646848800-1646856000@runhubnw.com
SUMMARY:Community Group Run
DESCRIPTION:Join us every Wednesday for a laid-back\, fun run. We meet in front of Run Hub at 515 High Street. Runners and walkers can choose to go 3 or 5 miles at a range of speeds (seriously). Anyone and everyone is welcome\, including small persons in strollers and our four legged-friends. \nWinter 3-mile routeWinter 5-mile route
URL:https://runhubnw.com/event/community-group-run/2022-03-09/
LOCATION:Run Hub Northwest\, 515 High St\, Eugene\, OR\, 97401\, United States
CATEGORIES:Group Run
ATTACH;FMTTYPE=image/jpeg:https://cdn.runhubnw.com/app/uploads/2022/10/17183001/IMG_0003-crop.jpg
GEO:44.0539572;-123.0879346
X-APPLE-STRUCTURED-LOCATION;VALUE=URI;X-ADDRESS=Run Hub Northwest 515 High St Eugene OR 97401 United States;X-APPLE-RADIUS=500;X-TITLE=515 High St:geo:-123.0879346,44.0539572
END:VEVENT
BEGIN:VEVENT
DTSTART;TZID=America/Los_Angeles:20220316T180000
DTEND;TZID=America/Los_Angeles:20220316T200000
DTSTAMP:20260422T062422
CREATED:20150508T023046Z
LAST-MODIFIED:20241016T192618Z
UID:10000652-1647453600-1647460800@runhubnw.com
SUMMARY:Community Group Run
DESCRIPTION:Join us every Wednesday for a laid-back\, fun run. We meet in front of Run Hub at 515 High Street. Runners and walkers can choose to go 3 or 5 miles at a range of speeds (seriously). Anyone and everyone is welcome\, including small persons in strollers and our four legged-friends. \nWinter 3-mile routeWinter 5-mile route
URL:https://runhubnw.com/event/community-group-run/2022-03-16/
LOCATION:Run Hub Northwest\, 515 High St\, Eugene\, OR\, 97401\, United States
CATEGORIES:Group Run
ATTACH;FMTTYPE=image/jpeg:https://cdn.runhubnw.com/app/uploads/2022/10/17183001/IMG_0003-crop.jpg
GEO:44.0539572;-123.0879346
X-APPLE-STRUCTURED-LOCATION;VALUE=URI;X-ADDRESS=Run Hub Northwest 515 High St Eugene OR 97401 United States;X-APPLE-RADIUS=500;X-TITLE=515 High St:geo:-123.0879346,44.0539572
END:VEVENT
BEGIN:VEVENT
DTSTART;TZID=America/Los_Angeles:20220319T130000
DTEND;TZID=America/Los_Angeles:20220319T160000
DTSTAMP:20260422T062422
CREATED:20220303T010617Z
LAST-MODIFIED:20220310T184726Z
UID:10000916-1647694800-1647705600@runhubnw.com
SUMMARY:St. Paddy's Day RunVenture
DESCRIPTION:Join us for our St. Paddy’s Day RunVenture! This running scavenger hunt through Eugene will have you gathering gold coins\, catching leprechauns\, and dancing an Irish jig. The event\, which you can run or walk and which will be about four miles total\, will start and end at Oakshire Public House. The run will begin at 2 PM\, but come early to earn extra raffle tickets for the post-RunVenture raffle!You’ll run to other local businesses in town before finishing the run at Oakshire\, where we’ll raffle off prizes from our participating businesses. We’ll also award prizes for best costumes!Schedule:1 PM: Gather at Oakshire to demo some Oofos recovery sandals\, sample Nuun Energy\, and check out a pair of On running shoes to wear during the RunVenture. You’ll get extra raffle tickets for trying products from our vendors!2 PM: Run begins! You’ll get a gold coin at each RunVenture location you make it to and the more coins you have\, the more raffle tickets you’ll get!3 PM: End the run at Oakshire and enjoy beer and a raffle!Thank you to our participating RunVenture businesses: Oakshire Public House\, Crux Rock Gym\, Eugene Gear Traders\, The Bier Stein\, Bricks & Minifigs\, and Thinking Tree Spirits.This event is free and pre-registration is not required.
URL:https://runhubnw.com/event/st-paddys-day-runventure-3/
LOCATION:Oakshire Public House\, 207 Madison St\, Eugene\, Oregon\, 97402\, United States
CATEGORIES:RunVenture
ATTACH;FMTTYPE=image/jpeg:https://cdn.runhubnw.com/app/uploads/2022/03/02170314/54522378_1261658783986105_7833408302179418112_n-e1646938032573.jpg
GEO:44.057498;-123.1030057
X-APPLE-STRUCTURED-LOCATION;VALUE=URI;X-ADDRESS=Oakshire Public House 207 Madison St Eugene Oregon 97402 United States;X-APPLE-RADIUS=500;X-TITLE=207 Madison St:geo:-123.1030057,44.057498
END:VEVENT
BEGIN:VEVENT
DTSTART;TZID=America/Los_Angeles:20220323T173000
DTEND;TZID=America/Los_Angeles:20220323T193000
DTSTAMP:20260422T062422
CREATED:20220310T184039Z
LAST-MODIFIED:20220310T184600Z
UID:10000918-1648056600-1648063800@runhubnw.com
SUMMARY:New Balance Demo & Community Run
DESCRIPTION:Join us for our regularly scheduled community run and demo New Balance running shoes! Demo the highly cushioned Fresh Foam 1080v11 or more responsive Fresh Foam 880v11.The run will start at 6 PM at Run Hub\, 515 High Street. Come a little early to check out a pair of demo shoes\, then choose to run 3 or 5 miles on the Willamette River path. All paces and abilities are welcome!Stick around after the run for a prize raffle and refreshments! 
URL:https://runhubnw.com/event/new-balance-demo-community-run%ef%bf%bc/
LOCATION:Run Hub Northwest\, 515 High St\, Eugene\, OR\, 97401\, United States
CATEGORIES:Clinic/Demo
ATTACH;FMTTYPE=image/jpeg:https://cdn.runhubnw.com/app/uploads/2022/03/10103952/NB-GW-FFX-SPRING-2021-Q-SPEED-1080-6-BANNER-CROP2-e1646937943668.jpg
GEO:44.0539572;-123.0879346
X-APPLE-STRUCTURED-LOCATION;VALUE=URI;X-ADDRESS=Run Hub Northwest 515 High St Eugene OR 97401 United States;X-APPLE-RADIUS=500;X-TITLE=515 High St:geo:-123.0879346,44.0539572
END:VEVENT
BEGIN:VEVENT
DTSTART;TZID=America/Los_Angeles:20220323T180000
DTEND;TZID=America/Los_Angeles:20220323T200000
DTSTAMP:20260422T062422
CREATED:20150508T023046Z
LAST-MODIFIED:20241016T192618Z
UID:10000653-1648058400-1648065600@runhubnw.com
SUMMARY:Community Group Run
DESCRIPTION:Join us every Wednesday for a laid-back\, fun run. We meet in front of Run Hub at 515 High Street. Runners and walkers can choose to go 3 or 5 miles at a range of speeds (seriously). Anyone and everyone is welcome\, including small persons in strollers and our four legged-friends. \nWinter 3-mile routeWinter 5-mile route
URL:https://runhubnw.com/event/community-group-run/2022-03-23/
LOCATION:Run Hub Northwest\, 515 High St\, Eugene\, OR\, 97401\, United States
CATEGORIES:Group Run
ATTACH;FMTTYPE=image/jpeg:https://cdn.runhubnw.com/app/uploads/2022/10/17183001/IMG_0003-crop.jpg
GEO:44.0539572;-123.0879346
X-APPLE-STRUCTURED-LOCATION;VALUE=URI;X-ADDRESS=Run Hub Northwest 515 High St Eugene OR 97401 United States;X-APPLE-RADIUS=500;X-TITLE=515 High St:geo:-123.0879346,44.0539572
END:VEVENT
BEGIN:VEVENT
DTSTART;TZID=America/Los_Angeles:20220330T180000
DTEND;TZID=America/Los_Angeles:20220330T200000
DTSTAMP:20260422T062422
CREATED:20150508T023046Z
LAST-MODIFIED:20241016T192618Z
UID:10000654-1648663200-1648670400@runhubnw.com
SUMMARY:Community Group Run
DESCRIPTION:Join us every Wednesday for a laid-back\, fun run. We meet in front of Run Hub at 515 High Street. Runners and walkers can choose to go 3 or 5 miles at a range of speeds (seriously). Anyone and everyone is welcome\, including small persons in strollers and our four legged-friends. \nWinter 3-mile routeWinter 5-mile route
URL:https://runhubnw.com/event/community-group-run/2022-03-30/
LOCATION:Run Hub Northwest\, 515 High St\, Eugene\, OR\, 97401\, United States
CATEGORIES:Group Run
ATTACH;FMTTYPE=image/jpeg:https://cdn.runhubnw.com/app/uploads/2022/10/17183001/IMG_0003-crop.jpg
GEO:44.0539572;-123.0879346
X-APPLE-STRUCTURED-LOCATION;VALUE=URI;X-ADDRESS=Run Hub Northwest 515 High St Eugene OR 97401 United States;X-APPLE-RADIUS=500;X-TITLE=515 High St:geo:-123.0879346,44.0539572
END:VEVENT
END:VCALENDAR