BEGIN:VCALENDAR
VERSION:2.0
PRODID:-//Run Hub Northwest - ECPv6.15.17.1//NONSGML v1.0//EN
CALSCALE:GREGORIAN
METHOD:PUBLISH
X-WR-CALNAME:Run Hub Northwest
X-ORIGINAL-URL:https://runhubnw.com
X-WR-CALDESC:Events for Run Hub Northwest
REFRESH-INTERVAL;VALUE=DURATION:PT1H
X-Robots-Tag:noindex
X-PUBLISHED-TTL:PT1H
BEGIN:VTIMEZONE
TZID:America/Los_Angeles
BEGIN:DAYLIGHT
TZOFFSETFROM:-0800
TZOFFSETTO:-0700
TZNAME:PDT
DTSTART:20230312T100000
END:DAYLIGHT
BEGIN:STANDARD
TZOFFSETFROM:-0700
TZOFFSETTO:-0800
TZNAME:PST
DTSTART:20231105T090000
END:STANDARD
BEGIN:DAYLIGHT
TZOFFSETFROM:-0800
TZOFFSETTO:-0700
TZNAME:PDT
DTSTART:20240310T100000
END:DAYLIGHT
BEGIN:STANDARD
TZOFFSETFROM:-0700
TZOFFSETTO:-0800
TZNAME:PST
DTSTART:20241103T090000
END:STANDARD
BEGIN:DAYLIGHT
TZOFFSETFROM:-0800
TZOFFSETTO:-0700
TZNAME:PDT
DTSTART:20250309T100000
END:DAYLIGHT
BEGIN:STANDARD
TZOFFSETFROM:-0700
TZOFFSETTO:-0800
TZNAME:PST
DTSTART:20251102T090000
END:STANDARD
END:VTIMEZONE
BEGIN:VEVENT
DTSTART;TZID=America/Los_Angeles:20240929T090000
DTEND;TZID=America/Los_Angeles:20240929T090000
DTSTAMP:20260419T193431
CREATED:20240920T033117Z
LAST-MODIFIED:20240920T033518Z
UID:10001267-1727600400-1727600400@runhubnw.com
SUMMARY:Kings Castle Destination Trail Run
DESCRIPTION:For the September trail run\, we’ll head east along the McKenzie River to explore Kings Castle and Castle Rock trails. Join us on Sunday\, Sept. 29 for 5\, 9 or 11-miles on this scenic vert run. Enjoy dense forest\, smooth soft trails and a view of the Sisters mountains at the top. \nThis is a preview run for Elevated Trail Racing’s ‘Storm the Castle‘ race on Dec. 7. After the run\, we’ll head to Takodas for food and drink. \nSchedule: \n9am: Meet at Run Hub \n9:15am: Leave for Kings Castle Trailhead (54754 King Rd E\, Blue River) \n10am: Arrive at Trailhead\, take group photo\, run! \n12:30ish: Meet at Takodas (91806 Mill Creek Rd\, Blue River)
URL:https://runhubnw.com/event/kings-castle-destination-trail-run/
LOCATION:Run Hub Northwest\, 515 High St\, Eugene\, OR\, 97401\, United States
ATTACH;FMTTYPE=image/jpeg:https://cdn.runhubnw.com/app/uploads/2024/09/19202716/IMG_9605-e1726802926111.jpg
GEO:44.0539572;-123.0879346
X-APPLE-STRUCTURED-LOCATION;VALUE=URI;X-ADDRESS=Run Hub Northwest 515 High St Eugene OR 97401 United States;X-APPLE-RADIUS=500;X-TITLE=515 High St:geo:-123.0879346,44.0539572
END:VEVENT
END:VCALENDAR