BEGIN:VCALENDAR
VERSION:2.0
PRODID:-//Run Hub Northwest - ECPv6.15.17.1//NONSGML v1.0//EN
CALSCALE:GREGORIAN
METHOD:PUBLISH
X-ORIGINAL-URL:https://runhubnw.com
X-WR-CALDESC:Events for Run Hub Northwest
REFRESH-INTERVAL;VALUE=DURATION:PT1H
X-Robots-Tag:noindex
X-PUBLISHED-TTL:PT1H
BEGIN:VTIMEZONE
TZID:America/Los_Angeles
BEGIN:DAYLIGHT
TZOFFSETFROM:-0800
TZOFFSETTO:-0700
TZNAME:PDT
DTSTART:20200308T100000
END:DAYLIGHT
BEGIN:STANDARD
TZOFFSETFROM:-0700
TZOFFSETTO:-0800
TZNAME:PST
DTSTART:20201101T090000
END:STANDARD
BEGIN:DAYLIGHT
TZOFFSETFROM:-0800
TZOFFSETTO:-0700
TZNAME:PDT
DTSTART:20210314T100000
END:DAYLIGHT
BEGIN:STANDARD
TZOFFSETFROM:-0700
TZOFFSETTO:-0800
TZNAME:PST
DTSTART:20211107T090000
END:STANDARD
BEGIN:DAYLIGHT
TZOFFSETFROM:-0800
TZOFFSETTO:-0700
TZNAME:PDT
DTSTART:20220313T100000
END:DAYLIGHT
BEGIN:STANDARD
TZOFFSETFROM:-0700
TZOFFSETTO:-0800
TZNAME:PST
DTSTART:20221106T090000
END:STANDARD
END:VTIMEZONE
BEGIN:VEVENT
DTSTART;TZID=America/Los_Angeles:20210618T070000
DTEND;TZID=America/Los_Angeles:20210618T090000
DTSTAMP:20260421T141621
CREATED:20210616T181332Z
LAST-MODIFIED:20210616T182944Z
UID:10000781-1623999600-1624006800@runhubnw.com
SUMMARY:Passport Run: Skinner's Butte
DESCRIPTION:Join us at Run Hub\, 515 High Street in Eugene\, to run to the summit of Skinner’s Butte and back for a ~3 mile fun run! \nEach day of the Trials\, we’ll be at a different location on our printed passport (pick one up at the shop or at a Passport Run!) from 7-9 a.m. Run that route on that morning and a staff member will be there to stamp your passport! \nIf you can’t make it\, be sure to take a photo or video of your run\, tag @runhubnw on Facebook or Instagram and we’ll consider that your stamp for the run. Complete all the runs with your passport stamped and you’ll get a limited edition Run Eugene tech tee from Run Hub!
URL:https://runhubnw.com/event/passport-run-skinners-butte/
LOCATION:Run Hub Northwest\, 515 High St\, Eugene\, OR\, 97401\, United States
CATEGORIES:Group Run
GEO:44.0539572;-123.0879346
X-APPLE-STRUCTURED-LOCATION;VALUE=URI;X-ADDRESS=Run Hub Northwest 515 High St Eugene OR 97401 United States;X-APPLE-RADIUS=500;X-TITLE=515 High St:geo:-123.0879346,44.0539572
END:VEVENT
BEGIN:VEVENT
DTSTART;TZID=America/Los_Angeles:20210619T070000
DTEND;TZID=America/Los_Angeles:20210619T090000
DTSTAMP:20260421T141621
CREATED:20210616T181829Z
LAST-MODIFIED:20210616T183407Z
UID:10000782-1624086000-1624093200@runhubnw.com
SUMMARY:Passport Run: Wild Iris Ridge
DESCRIPTION:Meet us at Wild Iris Ridge\, Bailey Hill Road and S Bertelsen Road in Eugene\, for a beautiful trail run with views of Spencer Butte and the West Eugene Wetlands. The lollipop loop is about 3.5 miles. \nEach day of the Trials\, we’ll be at a different location on our printed passport (pick one up at the shop or at a Passport Run!) from 7-9 a.m. Run that route on that morning and a staff member will be there to stamp your passport! \nIf you can’t make it\, be sure to take a photo or video of your run\, tag @runhubnw on Facebook or Instagram and we’ll consider that your stamp for the run. Complete all the runs with your passport stamped and you’ll get a limited edition Run Eugene tech tee from Run Hub!
URL:https://runhubnw.com/event/passport-run-wild-iris-ridge/
LOCATION:Wild Iris Ridge\, Bailey Hill Rd & S Bertelsen Rd\, Eugene\, OR\, 97405\, United States
CATEGORIES:Group Run
GEO:44.0302195;-123.1645226
X-APPLE-STRUCTURED-LOCATION;VALUE=URI;X-ADDRESS=Wild Iris Ridge Bailey Hill Rd & S Bertelsen Rd Eugene OR 97405 United States;X-APPLE-RADIUS=500;X-TITLE=Bailey Hill Rd & S Bertelsen Rd:geo:-123.1645226,44.0302195
END:VEVENT
BEGIN:VEVENT
DTSTART;TZID=America/Los_Angeles:20210619T110000
DTEND;TZID=America/Los_Angeles:20210619T140000
DTSTAMP:20260421T141621
CREATED:20210616T211253Z
LAST-MODIFIED:20210616T211253Z
UID:10000905-1624100400-1624111200@runhubnw.com
SUMMARY:Brooks Aurora Demo
DESCRIPTION:Defy gravity with Brooks’ latest BlueLab creation\, the nitrogen-infused Aurora running shoe and get a complimentary shaved ice from Kona Ice!
URL:https://runhubnw.com/event/brooks-aurora-demo/
LOCATION:Run Hub Northwest\, 515 High St\, Eugene\, OR\, 97401\, United States
CATEGORIES:Clinic/Demo
GEO:44.0539572;-123.0879346
X-APPLE-STRUCTURED-LOCATION;VALUE=URI;X-ADDRESS=Run Hub Northwest 515 High St Eugene OR 97401 United States;X-APPLE-RADIUS=500;X-TITLE=515 High St:geo:-123.0879346,44.0539572
END:VEVENT
BEGIN:VEVENT
DTSTART;TZID=America/Los_Angeles:20210620T070000
DTEND;TZID=America/Los_Angeles:20210620T090000
DTSTAMP:20260421T141621
CREATED:20210616T182551Z
LAST-MODIFIED:20210616T183234Z
UID:10000783-1624172400-1624179600@runhubnw.com
SUMMARY:Passport Run: Dorris Ranch
DESCRIPTION:Meet us at the parking lot at Dorris Ranch in Springfield for a run along a paved path that follows scenic views of the Willamette River. This out-and-back run is 8 miles total\, so feel free to turn around when you’d like. \nEach day of the Trials\, we’ll be at a different location on our printed passport (pick one up at the shop or at a Passport Run!) from 7-9 a.m. Run that route on that morning and a staff member will be there to stamp your passport! \nIf you can’t make it\, be sure to take a photo or video of your run\, tag @runhubnw on Facebook or Instagram and we’ll consider that your stamp for the run. Complete all the runs with your passport stamped and you’ll get a limited edition Run Eugene tech tee from Run Hub!
URL:https://runhubnw.com/event/passport-run-dorris-ranch/
LOCATION:Dorris Ranch\, 205 Dorris St\, Springfield\, OR\, 97477\, United States
CATEGORIES:Group Run
GEO:44.0336891;-123.0193851
X-APPLE-STRUCTURED-LOCATION;VALUE=URI;X-ADDRESS=Dorris Ranch 205 Dorris St Springfield OR 97477 United States;X-APPLE-RADIUS=500;X-TITLE=205 Dorris St:geo:-123.0193851,44.0336891
END:VEVENT
BEGIN:VEVENT
DTSTART;TZID=America/Los_Angeles:20210621T070000
DTEND;TZID=America/Los_Angeles:20210621T210000
DTSTAMP:20260421T141621
CREATED:20210616T185828Z
LAST-MODIFIED:20210616T195219Z
UID:10000784-1624258800-1624309200@runhubnw.com
SUMMARY:Passport Run: Spencer Butte
DESCRIPTION:Meet us at Frank Kinney Park for a run to Spencer Butte Summit for panoramic views of the Cascade Mountains\, Coast Range and the Willamette Valley. This out-and-back run is 6 miles total\, so go all the way to the summit or turn around whenever you’d like. \nEach day of the Trials\, we’ll be at a different location on our printed passport (pick one up at the shop or at a Passport Run!) from 7-9 a.m. Run that route on that morning and a staff member will be there to stamp your passport! \nIf you can’t make it\, be sure to take a photo or video of your run\, tag @runhubnw on Facebook or Instagram and we’ll consider that your stamp for the run. Complete all the runs with your passport stamped and you’ll get a limited edition Run Eugene tech tee from Run Hub!
URL:https://runhubnw.com/event/passport-run-spencer-butte/
LOCATION:Frank Kinney Park\, 875 Martin St\, Eugene\, OR\, 97405\, United States
CATEGORIES:Group Run
GEO:43.998335;-123.076848
X-APPLE-STRUCTURED-LOCATION;VALUE=URI;X-ADDRESS=Frank Kinney Park 875 Martin St Eugene OR 97405 United States;X-APPLE-RADIUS=500;X-TITLE=875 Martin St:geo:-123.076848,43.998335
END:VEVENT
BEGIN:VEVENT
DTSTART;TZID=America/Los_Angeles:20210622T070000
DTEND;TZID=America/Los_Angeles:20210622T090000
DTSTAMP:20260421T141621
CREATED:20210616T200048Z
LAST-MODIFIED:20210616T200114Z
UID:10000785-1624345200-1624352400@runhubnw.com
SUMMARY:Passport Run: Amazon Trail
DESCRIPTION:Meet at Frank Kinney Park\, 875 Martin St in Eugene\, for an ~5 mile run run along the Rexius and Amazon trails. These flat\, wood-chipped trails make for a fun run in the heart of Eugene. \nEach day of the Trials\, we’ll be at a different location on our printed passport (pick one up at the shop or at a Passport Run!) from 7-9 a.m. Run that route on that morning and a staff member will be there to stamp your passport! \nIf you can’t make it\, be sure to take a photo or video of your run\, tag @runhubnw on Facebook or Instagram and we’ll consider that your stamp for the run. Complete all the runs with your passport stamped and you’ll get a limited edition Run Eugene tech tee from Run Hub!
URL:https://runhubnw.com/event/passport-run-amazon-trail/
LOCATION:Frank Kinney Park\, 875 Martin St\, Eugene\, OR\, 97405\, United States
CATEGORIES:Group Run
GEO:43.998335;-123.076848
X-APPLE-STRUCTURED-LOCATION;VALUE=URI;X-ADDRESS=Frank Kinney Park 875 Martin St Eugene OR 97405 United States;X-APPLE-RADIUS=500;X-TITLE=875 Martin St:geo:-123.076848,43.998335
END:VEVENT
BEGIN:VEVENT
DTSTART;TZID=America/Los_Angeles:20210622T180000
DTEND;TZID=America/Los_Angeles:20210622T200000
DTSTAMP:20260421T141621
CREATED:20210616T211643Z
LAST-MODIFIED:20210616T211643Z
UID:10000906-1624384800-1624392000@runhubnw.com
SUMMARY:On run with Olympic Runner Jake Riley
DESCRIPTION:Run with On and US Olympic Marathon Team Qualifier Jake Riley from the store to Amazon Trail\, where we’ll have the opportunity to see just how fast he runs his marathon pace for 400 meters. Think you can beat him? Let’s see! \nAfterward we’ll have a Q&A and beverages at Run Hub! \n*This event qualifies for a passport stamp.
URL:https://runhubnw.com/event/on-run-with-olympic-runner-jake-riley/
LOCATION:Run Hub Northwest\, 515 High St\, Eugene\, OR\, 97401\, United States
CATEGORIES:Group Run
GEO:44.0539572;-123.0879346
X-APPLE-STRUCTURED-LOCATION;VALUE=URI;X-ADDRESS=Run Hub Northwest 515 High St Eugene OR 97401 United States;X-APPLE-RADIUS=500;X-TITLE=515 High St:geo:-123.0879346,44.0539572
END:VEVENT
BEGIN:VEVENT
DTSTART;TZID=America/Los_Angeles:20210623T070000
DTEND;TZID=America/Los_Angeles:20210623T090000
DTSTAMP:20260421T141621
CREATED:20210616T201245Z
LAST-MODIFIED:20210616T213443Z
UID:10000786-1624431600-1624438800@runhubnw.com
SUMMARY:Passport Run: Pre's Trail with HOKA ONE ONE
DESCRIPTION:Meet us at Run Hub\, 515 High St in Eugene\, for a run on the iconic wood-chipped Pre’s Trail. Start at the store for a 3- or 6-mile loop\, during which you’ll enjoy views of Alton Baker Park\, the Willamette River and Autzen Stadium. Refreshments will be provided by HOKA ONE ONE afterward! \nEach day of the Trials\, we’ll be at a different location on our printed passport (pick one up at the shop or at a Passport Run!) from 7-9 a.m. Run that route on that morning and a staff member will be there to stamp your passport! \nIf you can’t make it\, be sure to take a photo or video of your run\, tag @runhubnw on Facebook or Instagram and we’ll consider that your stamp for the run. Complete all the runs with your passport stamped and you’ll get a limited edition Run Eugene tech tee from Run Hub!
URL:https://runhubnw.com/event/passport-run-pres-trail/
LOCATION:Run Hub Northwest\, 515 High St\, Eugene\, OR\, 97401\, United States
CATEGORIES:Group Run
GEO:44.0539572;-123.0879346
X-APPLE-STRUCTURED-LOCATION;VALUE=URI;X-ADDRESS=Run Hub Northwest 515 High St Eugene OR 97401 United States;X-APPLE-RADIUS=500;X-TITLE=515 High St:geo:-123.0879346,44.0539572
END:VEVENT
BEGIN:VEVENT
DTSTART;TZID=America/Los_Angeles:20210624T070000
DTEND;TZID=America/Los_Angeles:20210624T090000
DTSTAMP:20260421T141621
CREATED:20210616T202747Z
LAST-MODIFIED:20210616T204218Z
UID:10000787-1624518000-1624525200@runhubnw.com
SUMMARY:Passport Run: Ruth Bascom River Path
DESCRIPTION:Join us at Run Hub\, 515 High Street\, for a run on the Ruth Bascom River Path\, a paved path that follows the Willamette River through Eugene. Run a 4- or 8-mile loop while you enjoy views of the river. \nEach day of the Trials\, we’ll be at a different location on our printed passport (pick one up at the shop or at a Passport Run!) from 7-9 a.m. Run that route on that morning and a staff member will be there to stamp your passport! \nIf you can’t make it\, be sure to take a photo or video of your run\, tag @runhubnw on Facebook or Instagram and we’ll consider that your stamp for the run. Complete all the runs with your passport stamped and you’ll get a limited edition Run Eugene tech tee from Run Hub!
URL:https://runhubnw.com/event/passport-run-ruth-bascom-river-path/
LOCATION:Run Hub Northwest\, 515 High St\, Eugene\, OR\, 97401\, United States
CATEGORIES:Group Run
GEO:44.0539572;-123.0879346
X-APPLE-STRUCTURED-LOCATION;VALUE=URI;X-ADDRESS=Run Hub Northwest 515 High St Eugene OR 97401 United States;X-APPLE-RADIUS=500;X-TITLE=515 High St:geo:-123.0879346,44.0539572
END:VEVENT
BEGIN:VEVENT
DTSTART;TZID=America/Los_Angeles:20210625T070000
DTEND;TZID=America/Los_Angeles:20210625T090000
DTSTAMP:20260421T141621
CREATED:20210616T203421Z
LAST-MODIFIED:20210616T213816Z
UID:10000788-1624604400-1624611600@runhubnw.com
SUMMARY:Passport Run: Pre's Rock with On
DESCRIPTION:Meet at the On booth at Tom’s Market\,  1490 E 19th Ave in Eugene\, for an ~3 mile loop run to Pre’s Rock and back. Pre’s Rock\, a memorial to iconic University of Oregon runner and Olympian Steve Prefontaine\, marks the site where he died in 1975. \nEach day of the Trials\, we’ll be at a different location on our printed passport (pick one up at the shop or at a Passport Run!) from 7-9 a.m. Run that route on that morning and a staff member will be there to stamp your passport! \nIf you can’t make it\, be sure to take a photo or video of your run\, tag @runhubnw on Facebook or Instagram and we’ll consider that your stamp for the run. Complete all the runs with your passport stamped and you’ll get a limited edition Run Eugene tech tee from Run Hub!
URL:https://runhubnw.com/event/passport-run-pres-rock/
LOCATION:Tom’s Market\, 1490 E 19th Ave\, Eugene\, OR\, 97403\, United States
CATEGORIES:Group Run
GEO:44.0387561;-123.0700803
X-APPLE-STRUCTURED-LOCATION;VALUE=URI;X-ADDRESS=Tom’s Market 1490 E 19th Ave Eugene OR 97403 United States;X-APPLE-RADIUS=500;X-TITLE=1490 E 19th Ave:geo:-123.0700803,44.0387561
END:VEVENT
BEGIN:VEVENT
DTSTART;TZID=America/Los_Angeles:20210625T180000
DTEND;TZID=America/Los_Angeles:20210625T200000
DTSTAMP:20260421T141621
CREATED:20210616T212731Z
LAST-MODIFIED:20210616T213906Z
UID:10000907-1624644000-1624651200@runhubnw.com
SUMMARY:Movie Night with HOKA: 'A Time and a Place'
DESCRIPTION:Join us at Alton Baker Park at 6pm to watch the documentary on the Northern Arizona Elite marathon team as they prepare for and race the 2020 Olympic Marathon Trials. The film was produced by Stephen Kersh and Ryan Sterner. NAZ Elite Coach Ben Rosario and athlete Scott Fauble will be present to answer questions. \nMeet near shelter #2\, the larger shelter of the two at Alton Baker. Enjoy Picky Bars samples during the movie. Please bring a blanket or comfy chair to sit on. RSVP requested at https://hokanazelitemovienight.splashthat.com/.
URL:https://runhubnw.com/event/movie-night-with-hoka-a-time-and-a-place/
LOCATION:Alton Baker Park\, 200 Day Island Rd\, Eugene\, OR\, 97401\, United States
CATEGORIES:Event
GEO:44.054978;-123.0795561
X-APPLE-STRUCTURED-LOCATION;VALUE=URI;X-ADDRESS=Alton Baker Park 200 Day Island Rd Eugene OR 97401 United States;X-APPLE-RADIUS=500;X-TITLE=200 Day Island Rd:geo:-123.0795561,44.054978
END:VEVENT
BEGIN:VEVENT
DTSTART;TZID=America/Los_Angeles:20210626T080000
DTEND;TZID=America/Los_Angeles:20210626T100000
DTSTAMP:20260421T141621
CREATED:20210616T210351Z
LAST-MODIFIED:20210616T213641Z
UID:10000903-1624694400-1624701600@runhubnw.com
SUMMARY:Passport Run: Mt Pisgah with HOKA ONE ONE
DESCRIPTION:Join us at Mt. Pisgah for an ~4- or ~8-mile loop trail run through lush forest. Meet in the parking lot at Howard Buford Recreation Area\, where you will need to purchase a Lane County Parks single-day parking pass for $5. You can purchase this pass from a machine at the trailhead\, but keep in mind the machine only accepts cards. \nHOKA ONE ONE will be providing demo shoes at the trail! Try out the Speedgoat 4 trail shoe or all new Clifton 8 on your run. \nEach day of the Trials\, we’ll be at a different location on our printed passport (pick one up at the shop or at a Passport Run!) from 7-9 a.m. Run that route on that morning and a staff member will be there to stamp your passport! \nIf you can’t make it\, be sure to take a photo or video of your run\, tag @runhubnw on Facebook or Instagram and we’ll consider that your stamp for the run. Complete all the runs with your passport stamped and you’ll get a limited edition Run Eugene tech tee from Run Hub!
URL:https://runhubnw.com/event/passport-run-mt-pisgah/
LOCATION:Howard Buford Recreation Area\, 34901 Frank Parrish Rd\, Eugene\, OR\, 97405\, United States
CATEGORIES:Group Run
GEO:44.0068768;-122.9803869
X-APPLE-STRUCTURED-LOCATION;VALUE=URI;X-ADDRESS=Howard Buford Recreation Area 34901 Frank Parrish Rd Eugene OR 97405 United States;X-APPLE-RADIUS=500;X-TITLE=34901 Frank Parrish Rd:geo:-122.9803869,44.0068768
END:VEVENT
BEGIN:VEVENT
DTSTART;TZID=America/Los_Angeles:20210627T070000
DTEND;TZID=America/Los_Angeles:20210627T090000
DTSTAMP:20260421T141621
CREATED:20210616T211046Z
LAST-MODIFIED:20210616T211046Z
UID:10000904-1624777200-1624784400@runhubnw.com
SUMMARY:Passport Run: Mt Baldy
DESCRIPTION:Join us at Mt. Baldy in Eugene’s southern hills for a fun and challenging run. You’ll endure steep climbs but be rewarded with extensive views through prairie\, oak and fir habitats. Enjoy an overlook of Eugene at the summit as you run one or more 2.5-mile loops. \nEach day of the Trials\, we’ll be at a different location on our printed passport (pick one up at the shop or at a Passport Run!) from 7-9 a.m. Run that route on that morning and a staff member will be there to stamp your passport! \nIf you can’t make it\, be sure to take a photo or video of your run\, tag @runhubnw on Facebook or Instagram and we’ll consider that your stamp for the run. Complete all the runs with your passport stamped and you’ll get a limited edition Run Eugene tech tee from Run Hub!
URL:https://runhubnw.com/event/passport-run-mt-baldy/
LOCATION:Mt Baldy\, 32543 Mt Baldy Ln\, Eugene\, OR\, 97405\, United States
CATEGORIES:Group Run
GEO:43.996794;-123.0594749
X-APPLE-STRUCTURED-LOCATION;VALUE=URI;X-ADDRESS=Mt Baldy 32543 Mt Baldy Ln Eugene OR 97405 United States;X-APPLE-RADIUS=500;X-TITLE=32543 Mt Baldy Ln:geo:-123.0594749,43.996794
END:VEVENT
END:VCALENDAR