BEGIN:VCALENDAR
VERSION:2.0
PRODID:-//Run Hub Northwest - ECPv6.15.17.1//NONSGML v1.0//EN
CALSCALE:GREGORIAN
METHOD:PUBLISH
X-ORIGINAL-URL:https://runhubnw.com
X-WR-CALDESC:Events for Run Hub Northwest
REFRESH-INTERVAL;VALUE=DURATION:PT1H
X-Robots-Tag:noindex
X-PUBLISHED-TTL:PT1H
BEGIN:VTIMEZONE
TZID:America/Los_Angeles
BEGIN:DAYLIGHT
TZOFFSETFROM:-0800
TZOFFSETTO:-0700
TZNAME:PDT
DTSTART:20180311T100000
END:DAYLIGHT
BEGIN:STANDARD
TZOFFSETFROM:-0700
TZOFFSETTO:-0800
TZNAME:PST
DTSTART:20181104T090000
END:STANDARD
BEGIN:DAYLIGHT
TZOFFSETFROM:-0800
TZOFFSETTO:-0700
TZNAME:PDT
DTSTART:20190310T100000
END:DAYLIGHT
BEGIN:STANDARD
TZOFFSETFROM:-0700
TZOFFSETTO:-0800
TZNAME:PST
DTSTART:20191103T090000
END:STANDARD
BEGIN:DAYLIGHT
TZOFFSETFROM:-0800
TZOFFSETTO:-0700
TZNAME:PDT
DTSTART:20200308T100000
END:DAYLIGHT
BEGIN:STANDARD
TZOFFSETFROM:-0700
TZOFFSETTO:-0800
TZNAME:PST
DTSTART:20201101T090000
END:STANDARD
END:VTIMEZONE
BEGIN:VEVENT
DTSTART;TZID=America/Los_Angeles:20190504T083000
DTEND;TZID=America/Los_Angeles:20190504T103000
DTSTAMP:20260421T141636
CREATED:20190407T210322Z
LAST-MODIFIED:20191210T175740Z
UID:10000844-1556958600-1556965800@runhubnw.com
SUMMARY:First Practice: Butte to Butte 5K Training Program
DESCRIPTION:This is the first practice for our Butte to Butte 5K training program! The 10-week program is oriented toward novice runners or walkers wishing to complete their first 5K. The team will meet at 8:30 a.m. on Saturdays at Run Hub. The Butte to Butte race will take place on July 4. \nOregon Medical Group is underwriting the majority of the costs for participation as a health and wellness initiative. The cost per person is $75 with $50 covered by Oregon Medical Group. Use promo code OMGRUN when you register to redeem your $50 off. Register online at https://runhubnw.com/training-programs/omg-run-hub-butte-to-butte-training-team/. \nIf you have any questions\, please email info@runhubnw.com.
URL:https://runhubnw.com/event/first-practice-butte-to-butte-5k-training-program/
LOCATION:Run Hub Northwest\, 515 High St\, Eugene\, OR\, 97401\, United States
CATEGORIES:Training Program
ATTACH;FMTTYPE=image/jpeg:https://cdn.runhubnw.com/app/uploads/2019/04/08115910/31404080_1016618908490095_8222217290460954624_o-1.jpg
GEO:44.0539572;-123.0879346
X-APPLE-STRUCTURED-LOCATION;VALUE=URI;X-ADDRESS=Run Hub Northwest 515 High St Eugene OR 97401 United States;X-APPLE-RADIUS=500;X-TITLE=515 High St:geo:-123.0879346,44.0539572
END:VEVENT
END:VCALENDAR