BEGIN:VCALENDAR
VERSION:2.0
PRODID:-//Run Hub Northwest - ECPv6.15.17.1//NONSGML v1.0//EN
CALSCALE:GREGORIAN
METHOD:PUBLISH
X-ORIGINAL-URL:https://runhubnw.com
X-WR-CALDESC:Events for Run Hub Northwest
REFRESH-INTERVAL;VALUE=DURATION:PT1H
X-Robots-Tag:noindex
X-PUBLISHED-TTL:PT1H
BEGIN:VTIMEZONE
TZID:America/Los_Angeles
BEGIN:DAYLIGHT
TZOFFSETFROM:-0800
TZOFFSETTO:-0700
TZNAME:PDT
DTSTART:20200308T100000
END:DAYLIGHT
BEGIN:STANDARD
TZOFFSETFROM:-0700
TZOFFSETTO:-0800
TZNAME:PST
DTSTART:20201101T090000
END:STANDARD
BEGIN:DAYLIGHT
TZOFFSETFROM:-0800
TZOFFSETTO:-0700
TZNAME:PDT
DTSTART:20210314T100000
END:DAYLIGHT
BEGIN:STANDARD
TZOFFSETFROM:-0700
TZOFFSETTO:-0800
TZNAME:PST
DTSTART:20211107T090000
END:STANDARD
BEGIN:DAYLIGHT
TZOFFSETFROM:-0800
TZOFFSETTO:-0700
TZNAME:PDT
DTSTART:20220313T100000
END:DAYLIGHT
BEGIN:STANDARD
TZOFFSETFROM:-0700
TZOFFSETTO:-0800
TZNAME:PST
DTSTART:20221106T090000
END:STANDARD
END:VTIMEZONE
BEGIN:VEVENT
DTSTART;TZID=America/Los_Angeles:20211103T180000
DTEND;TZID=America/Los_Angeles:20211103T193000
DTSTAMP:20260419T072245
CREATED:20211103T174420Z
LAST-MODIFIED:20211103T174426Z
UID:10000793-1635962400-1635967800@runhubnw.com
SUMMARY:Altra Demo & Community Run
DESCRIPTION:Join us for our Wednesday night community run and demo some Altra running shoes! We will be starting our runs from the store again\, so meet in front of the shop at 515 High Street at 6 PM. \n\n\n\nCheck out a pair of the Altra Escalante 2.5 or Torin 5 from our rep and take them for a spin on the Willamette River Path. We have 3-mile and 5.5-mile route options\, and all paces are welcome. Please wear lights or reflective gear for safety!  \n\n\n\nThe Escalante is a soft and lightly cushioned trainer and the Torin is a moderately-cushioned and bouncy shoe.
URL:https://runhubnw.com/event/altra-demo-community-run-2/
LOCATION:Run Hub Northwest\, 515 High St\, Eugene\, OR\, 97401\, United States
CATEGORIES:Clinic/Demo
ATTACH;FMTTYPE=image/jpeg:https://cdn.runhubnw.com/app/uploads/2021/11/03104357/DSC03747_2_50.jpg
GEO:44.0539572;-123.0879346
X-APPLE-STRUCTURED-LOCATION;VALUE=URI;X-ADDRESS=Run Hub Northwest 515 High St Eugene OR 97401 United States;X-APPLE-RADIUS=500;X-TITLE=515 High St:geo:-123.0879346,44.0539572
END:VEVENT
END:VCALENDAR