BEGIN:VCALENDAR
VERSION:2.0
PRODID:-//Run Hub Northwest - ECPv6.15.17.1//NONSGML v1.0//EN
CALSCALE:GREGORIAN
METHOD:PUBLISH
X-WR-CALNAME:Run Hub Northwest
X-ORIGINAL-URL:https://runhubnw.com
X-WR-CALDESC:Events for Run Hub Northwest
REFRESH-INTERVAL;VALUE=DURATION:PT1H
X-Robots-Tag:noindex
X-PUBLISHED-TTL:PT1H
BEGIN:VTIMEZONE
TZID:America/Los_Angeles
BEGIN:DAYLIGHT
TZOFFSETFROM:-0800
TZOFFSETTO:-0700
TZNAME:PDT
DTSTART:20170312T100000
END:DAYLIGHT
BEGIN:STANDARD
TZOFFSETFROM:-0700
TZOFFSETTO:-0800
TZNAME:PST
DTSTART:20171105T090000
END:STANDARD
BEGIN:DAYLIGHT
TZOFFSETFROM:-0800
TZOFFSETTO:-0700
TZNAME:PDT
DTSTART:20180311T100000
END:DAYLIGHT
BEGIN:STANDARD
TZOFFSETFROM:-0700
TZOFFSETTO:-0800
TZNAME:PST
DTSTART:20181104T090000
END:STANDARD
BEGIN:DAYLIGHT
TZOFFSETFROM:-0800
TZOFFSETTO:-0700
TZNAME:PDT
DTSTART:20190310T100000
END:DAYLIGHT
BEGIN:STANDARD
TZOFFSETFROM:-0700
TZOFFSETTO:-0800
TZNAME:PST
DTSTART:20191103T090000
END:STANDARD
BEGIN:DAYLIGHT
TZOFFSETFROM:-0800
TZOFFSETTO:-0700
TZNAME:PDT
DTSTART:20200308T100000
END:DAYLIGHT
BEGIN:STANDARD
TZOFFSETFROM:-0700
TZOFFSETTO:-0800
TZNAME:PST
DTSTART:20201101T090000
END:STANDARD
BEGIN:DAYLIGHT
TZOFFSETFROM:-0800
TZOFFSETTO:-0700
TZNAME:PDT
DTSTART:20210314T100000
END:DAYLIGHT
BEGIN:STANDARD
TZOFFSETFROM:-0700
TZOFFSETTO:-0800
TZNAME:PST
DTSTART:20211107T090000
END:STANDARD
BEGIN:DAYLIGHT
TZOFFSETFROM:-0800
TZOFFSETTO:-0700
TZNAME:PDT
DTSTART:20220313T100000
END:DAYLIGHT
BEGIN:STANDARD
TZOFFSETFROM:-0700
TZOFFSETTO:-0800
TZNAME:PST
DTSTART:20221106T090000
END:STANDARD
BEGIN:DAYLIGHT
TZOFFSETFROM:-0800
TZOFFSETTO:-0700
TZNAME:PDT
DTSTART:20230312T100000
END:DAYLIGHT
BEGIN:STANDARD
TZOFFSETFROM:-0700
TZOFFSETTO:-0800
TZNAME:PST
DTSTART:20231105T090000
END:STANDARD
BEGIN:DAYLIGHT
TZOFFSETFROM:-0800
TZOFFSETTO:-0700
TZNAME:PDT
DTSTART:20240310T100000
END:DAYLIGHT
BEGIN:STANDARD
TZOFFSETFROM:-0700
TZOFFSETTO:-0800
TZNAME:PST
DTSTART:20241103T090000
END:STANDARD
END:VTIMEZONE
BEGIN:VEVENT
DTSTART;TZID=America/Los_Angeles:20181123T110000
DTEND;TZID=America/Los_Angeles:20181123T120000
DTSTAMP:20260420T184857
CREATED:20181110T005512Z
LAST-MODIFIED:20191210T175747Z
UID:10000832-1542970800-1542974400@runhubnw.com
SUMMARY:Run off the Stuffing
DESCRIPTION:Join us for a post-Thanksgiving run on Black Friday. Meet at the store at 11 a.m. for a four-mile run on the river path. Participate in the run and get entered into a prize raffle!
URL:https://runhubnw.com/event/run-off-the-stuffing/
LOCATION:Run Hub Northwest\, 515 High St\, Eugene\, OR\, 97401\, United States
CATEGORIES:Group Run
ATTACH;FMTTYPE=image/jpeg:https://cdn.runhubnw.com/app/uploads/2018/11/08115949/23800195_927978940687426_1952801628406443691_o.jpg
GEO:44.0539572;-123.0879346
X-APPLE-STRUCTURED-LOCATION;VALUE=URI;X-ADDRESS=Run Hub Northwest 515 High St Eugene OR 97401 United States;X-APPLE-RADIUS=500;X-TITLE=515 High St:geo:-123.0879346,44.0539572
END:VEVENT
BEGIN:VEVENT
DTSTART;TZID=America/Los_Angeles:20231124T110000
DTEND;TZID=America/Los_Angeles:20231124T120000
DTSTAMP:20260420T184857
CREATED:20231025T192758Z
LAST-MODIFIED:20231025T193235Z
UID:10001235-1700823600-1700827200@runhubnw.com
SUMMARY:Running on Stuffing
DESCRIPTION:Join us on Black Friday for a fun post-Thanksgiving run! \n\n\n\nMeet at the store at 11 a.m. for a 3-5 mile run/walk on the Riverfront Path and Pre’s Trail. Afterward\, we’ll enjoy some hot beverages and treats from Palace Coffee and Bakery at the shop. \n\n\n\nPlus\, everyone who participates will receive $10 in Run Hub Bucks to use in the store!
URL:https://runhubnw.com/event/running-on-stuffing/
CATEGORIES:Group Run
ATTACH;FMTTYPE=image/jpeg:https://cdn.runhubnw.com/app/uploads/2023/10/25115942/IMG-5621-e1698262068357.jpg
END:VEVENT
BEGIN:VEVENT
DTSTART;TZID=America/Los_Angeles:20231124T110000
DTEND;TZID=America/Los_Angeles:20231126T170000
DTSTAMP:20260420T184857
CREATED:20231118T001823Z
LAST-MODIFIED:20231120T233008Z
UID:10001238-1700823600-1701018000@runhubnw.com
SUMMARY:Run Hub Holiday Sale 2023
DESCRIPTION:We’re excited for you to shop small with us during the holiday weekend! To say thank you for your business\, we’ll have coffee\, hot cocoa and pastries from Palace Bakery on Friday and Saturday. \n\n\n\nFRIDAY: \n\n\n\n\n11am run/walk + coffee and pastries at Run Hub\, All participants get $10 in Run Hub bucks \n\n\n\nGreat Deals! (see below for details)\n\n\n\n\nSMALL BUSINESS SATURDAY:  \n\n\n\n\nSpend $150 or more on regularly priced items\, get a $20 gift card!\n\n\n\nFirst 50 shoppers get a goodie bag with purchase\n\n\n\nGreat Deals! (see below for details) \n\n\n\n\nALL WEEKEND DEALS: \n\n\n\n\nBalega & Feetures Socks: Buy 3\, Get 1 Pair Free\n\n\n\n25% OFF all Oofos\n\n\n\nApparel: Buy 1\, Get 1 Half Off (regularly priced merchandise)\n\n\n\nAll Clearance Apparel: $20 each\n\n\n\nShokz Headphones: Open Move – $25 OFF\, OpenRun – $40 OFF\, OpenRun Pro – $55 OFF\n\n\n\nClearance Shoes marked to $49\, $69 or $89\n\n\n\nGarmin Forerunner 55 – $30 OFF\, Forerunner 265 – $50 OFF\, Forerunner 965 – $50 OFF\n\n\n\n\nDiscounts apply to in-store merchandise only. Cannot combine discounts or coupons.  \n\n\n\nStore hours: Friday: 12-5pm\, Saturday 10am-6pm\, Sunday 12-5pm
URL:https://runhubnw.com/event/run-hub-holiday-sale-2023/
CATEGORIES:Event,Group Run
ATTACH;FMTTYPE=image/jpeg:https://cdn.runhubnw.com/app/uploads/2023/11/17161717/IMG_8648-scaled.jpg
END:VEVENT
END:VCALENDAR