BEGIN:VCALENDAR
VERSION:2.0
PRODID:-//Run Hub Northwest - ECPv6.15.17.1//NONSGML v1.0//EN
CALSCALE:GREGORIAN
METHOD:PUBLISH
X-ORIGINAL-URL:https://runhubnw.com
X-WR-CALDESC:Events for Run Hub Northwest
REFRESH-INTERVAL;VALUE=DURATION:PT1H
X-Robots-Tag:noindex
X-PUBLISHED-TTL:PT1H
BEGIN:VTIMEZONE
TZID:America/Los_Angeles
BEGIN:DAYLIGHT
TZOFFSETFROM:-0800
TZOFFSETTO:-0700
TZNAME:PDT
DTSTART:20240310T100000
END:DAYLIGHT
BEGIN:STANDARD
TZOFFSETFROM:-0700
TZOFFSETTO:-0800
TZNAME:PST
DTSTART:20241103T090000
END:STANDARD
BEGIN:DAYLIGHT
TZOFFSETFROM:-0800
TZOFFSETTO:-0700
TZNAME:PDT
DTSTART:20250309T100000
END:DAYLIGHT
BEGIN:STANDARD
TZOFFSETFROM:-0700
TZOFFSETTO:-0800
TZNAME:PST
DTSTART:20251102T090000
END:STANDARD
BEGIN:DAYLIGHT
TZOFFSETFROM:-0800
TZOFFSETTO:-0700
TZNAME:PDT
DTSTART:20260308T100000
END:DAYLIGHT
BEGIN:STANDARD
TZOFFSETFROM:-0700
TZOFFSETTO:-0800
TZNAME:PST
DTSTART:20261101T090000
END:STANDARD
END:VTIMEZONE
BEGIN:VEVENT
DTSTART;TZID=America/Los_Angeles:20250521T180000
DTEND;TZID=America/Los_Angeles:20250521T200000
DTSTAMP:20260421T143800
CREATED:20250508T192711Z
LAST-MODIFIED:20250508T193232Z
UID:10001383-1747850400-1747857600@runhubnw.com
SUMMARY:Community Run/Walk & 'The Front Runner' book signing
DESCRIPTION:Join us for our regularly scheduled group run/walk and enjoy hearing from the author of a new biography on Steve Prefontaine.  \n\n\n\nFor the run/walk\, meet at the shop at 515 High Street. Runners and walkers can choose to go 3 or 5 miles at a range of speeds (seriously). Anyone and everyone is welcome\, including small persons in strollers and our four legged-friends. We have 2-3 staff members lead the run and one walk leader. \n\n\n\nAfterward\, we’ll head to ColdFire Brewing Company\, 263 Mill St\, for a talk by author Brendan O’Meara on his new book\, The Front Runner: The Life of Steve Prefontaine. Books will be available for sale and O’Meara will answer questions and sign books.
URL:https://runhubnw.com/event/community-run-walk-the-front-runner-book-signing/
CATEGORIES:Group Run
ATTACH;FMTTYPE=image/jpeg:https://cdn.runhubnw.com/app/uploads/2025/05/08122923/81p-DxPCfL._AC_UF10001000_QL80_-e1746732740604.jpg
END:VEVENT
END:VCALENDAR