BEGIN:VCALENDAR
VERSION:2.0
PRODID:-//Run Hub Northwest - ECPv6.15.17.1//NONSGML v1.0//EN
CALSCALE:GREGORIAN
METHOD:PUBLISH
X-WR-CALNAME:Run Hub Northwest
X-ORIGINAL-URL:https://runhubnw.com
X-WR-CALDESC:Events for Run Hub Northwest
REFRESH-INTERVAL;VALUE=DURATION:PT1H
X-Robots-Tag:noindex
X-PUBLISHED-TTL:PT1H
BEGIN:VTIMEZONE
TZID:America/Los_Angeles
BEGIN:DAYLIGHT
TZOFFSETFROM:-0800
TZOFFSETTO:-0700
TZNAME:PDT
DTSTART:20220313T100000
END:DAYLIGHT
BEGIN:STANDARD
TZOFFSETFROM:-0700
TZOFFSETTO:-0800
TZNAME:PST
DTSTART:20221106T090000
END:STANDARD
BEGIN:DAYLIGHT
TZOFFSETFROM:-0800
TZOFFSETTO:-0700
TZNAME:PDT
DTSTART:20230312T100000
END:DAYLIGHT
BEGIN:STANDARD
TZOFFSETFROM:-0700
TZOFFSETTO:-0800
TZNAME:PST
DTSTART:20231105T090000
END:STANDARD
BEGIN:DAYLIGHT
TZOFFSETFROM:-0800
TZOFFSETTO:-0700
TZNAME:PDT
DTSTART:20240310T100000
END:DAYLIGHT
BEGIN:STANDARD
TZOFFSETFROM:-0700
TZOFFSETTO:-0800
TZNAME:PST
DTSTART:20241103T090000
END:STANDARD
BEGIN:DAYLIGHT
TZOFFSETFROM:-0800
TZOFFSETTO:-0700
TZNAME:PDT
DTSTART:20250309T100000
END:DAYLIGHT
BEGIN:STANDARD
TZOFFSETFROM:-0700
TZOFFSETTO:-0800
TZNAME:PST
DTSTART:20251102T090000
END:STANDARD
END:VTIMEZONE
BEGIN:VEVENT
DTSTART;TZID=America/Los_Angeles:20230812T110000
DTEND;TZID=America/Los_Angeles:20230812T140000
DTSTAMP:20260421T030822
CREATED:20230717T223713Z
LAST-MODIFIED:20230812T165625Z
UID:10000963-1691838000-1691848800@runhubnw.com
SUMMARY:Gear Grants Jackpot Jog 2023
DESCRIPTION:Join us on Saturday\, August 12\, for the 2023 Gear Grants Jackpot Jog\, a poker run and catered lunch to fundraise for Run Hub Gear Grants!  \n\n\n\nRun Hub Gear Grants provides free running shoes and other gear to school-aged runners in need. Our fall 2023 Gear Grants application is open\, and grants will be issued to cross country athletes in September.  \n\n\n\nPre-registration is required for the event. Your $25 Gear Grants Jackpot Jog ticket includes  \n\n\n\n\naccess to the poker run and post-run raffle\n\n\n\na catered lunch from Yardy Eugene\n\n\n\na drink from ColdFire Brewing\n\n\n\n\nThe run will start at 12 PM at Run Hub Northwest\, 515 High Street in Eugene. Runners will run to five checkpoints throughout downtown Eugene and will draw a playing card at each one. The run will end at ColdFire Brewing Company\, 263 Mill St.   \n\n\n\nThe object is to have the best poker hand at the end of the run! The winner of the game will receive a $100 gift card to Run Hub!   \n\n\n\nThanks to our sponsors\, Brooks\, Gu and Coros\, 100% of ticket sales will go to Run Hub Gear Grants!  \n\n\n\nAnd thank you to the local businesses who are participating as poker card stops: Porterhouse Clothing & Supply\, Bumble Boutique\, Farmers Union Coffee Roasters\, Zenith Performance and Wellness\, and Elevation Bouldering Gym! \n\n\n\n\n\nEvent schedule: \n\n\n\n11 AM: Meet at Run Hub to check out Brooks demo shoes and Coros demo watches and sample Gu Energy  \n\n\n\n12 PM: Poker run begins at Run Hub and finishes at ColdFire  \n\n\n\n1 PM: Food\, drinks and raffle at ColdFire  \n\n\n\nMore about Run Hub Gear Grants: \n\n\n\nRun Hub has issued 45 $200 Gear Grants to local high school runners since the program’s inception in fall 2022.   \n\n\n\nRun Hub Gear Grants can be used by middle and high school students to purchase running shoes and other gear from Run Hub. Students must be enrolled in a track or cross country program at a Eugene/Springfield school or a sanctioned youth running program within Eugene/Springfield. Grants are given in the spring and fall of each year.  \n\n\n\nGear grants are created with funds donated by Run Hub customers and community members and through fundraising runs such as the Jackpot Jog.  \n\n\n\nA cross country runner at South Eugene High School who received a Gear Grant last fall said this:  \n\n\n\n“Receiving a Run Hub Gear Grant was being allowed to have the opportunity to succeed in running … I still use the training shoes today\, they might be a bit dirty but they still are some of the best shoes I’ve ever had and some of the most comfortable. The spikes allowed me to compete at a level that challenged me and my abilities\, and since I’ve never done distance\, cross country was an immense challenge. From the start of the season\, I was running 26 minute 5Ks\, and by the end\, I was running 21 minutes. Not much\, but it was extremely important to me as I’ve always struggled with distance and it was my first year. I likely wouldn’t have had such an improvement without the help from Run Hub.” 
URL:https://runhubnw.com/event/gear-grants-jackpot-jog-2023/
LOCATION:Run Hub Northwest\, 515 High St\, Eugene\, OR\, 97401\, United States
CATEGORIES:Group Run
ATTACH;FMTTYPE=image/png:https://cdn.runhubnw.com/app/uploads/2023/07/18125758/Jackpot-Jog-Square-1.png
GEO:44.0539572;-123.0879346
X-APPLE-STRUCTURED-LOCATION;VALUE=URI;X-ADDRESS=Run Hub Northwest 515 High St Eugene OR 97401 United States;X-APPLE-RADIUS=500;X-TITLE=515 High St:geo:-123.0879346,44.0539572
END:VEVENT
BEGIN:VEVENT
DTSTART;TZID=America/Los_Angeles:20240907T110000
DTEND;TZID=America/Los_Angeles:20240907T140000
DTSTAMP:20260421T030822
CREATED:20240805T194824Z
LAST-MODIFIED:20240906T175045Z
UID:10001265-1725706800-1725717600@runhubnw.com
SUMMARY:Gear Grants Jackpot Jog 2024
DESCRIPTION:Get your ticket before the price increases on September 1! \nJoin us on Saturday\, September 7\, for the 2024 Gear Grants Jackpot Jog\, a poker run and catered lunch to fundraise for Run Hub Gear Grants! \n\n\n\nRun Hub Gear Grants provides free running shoes and other gear to school-aged runners in need. Our fall 2024 Gear Grants application opens on August 11\, and grants will be issued to cross country athletes in September. \n\n\n\nTickets\n\n\n\nPre-registration is required for the event. Your $30 Gear Grants Jackpot Jog ticket includes \n\n\n\n\naccess to the poker run and post-run raffle\n\n\n\na catered lunch from Yabai Nikkei (chicken or tofu teriyaki\, rice\, salad and onigiri)\n\n\n\na drink from ColdFire Brewing (beer\, wine and non-alcoholic options)\n\n\n\n\nWe encourage you to buy your ticket before Sept 1\, so that we have an accurate count of participants for the caterer. The ticket price will increase to $40 on Sept 1.  \n\n\n\nAbout the event\n\n\n\nThe event will start at 11 AM at Run Hub Northwest\, 515 High Street in Eugene\, and participants will have one hour to check out Brooks demo shoes and other products from our sponsors. The run will start at 12 PM at Run Hub. Runners will run to five checkpoints throughout downtown Eugene and will draw a playing card at each one. The run will end at ColdFire Brewing Company\, 263 Mill St. \n\n\n\nThe object is to have the best poker hand at the end of the run! The winner of the game will receive a $100 gift card to Run Hub! \n\n\n\nThanks to our sponsors\, Brooks\, Balega\, UltrAspire\, Skratch and Craft\, 100% of ticket sales will go to Run Hub Gear Grants! \n\n\n\nAnd thank you to the local businesses who are participating as poker card stops: High Street Tonics\, PLAY Eugene\, Meraki Coffee Co.\, New Day Bakery and Staszak Physical Therapy.  \n\n\n\nEvent schedule\n\n\n\n\n11 AM: Meet at Run Hub to check out Brooks demo shoes and other products from our sponsors.\n\n\n\n12 PM: Poker run begins at Run Hub and finishes at ColdFire.\n\n\n\n1 PM: Food\, drinks and raffle at ColdFire.\n\n\n\n\nMore about Run Hub Gear Grants\n\n\n\nRun Hub has issued more than 130 $200 Gear Grants to local student athletes since the program’s inception in fall 2022. \n\n\n\nRun Hub Gear Grants can be used by middle and high school students to purchase running shoes and other gear from Run Hub. Students must be enrolled in a track or cross country program at a Eugene/Springfield school or a sanctioned youth running program within Eugene/Springfield. Grants are given in the spring and fall of each year. \n\n\n\nGear grants are created with funds donated by Run Hub customers and community members and through fundraising runs such as the Jackpot Jog. \n\n  \n 
URL:https://runhubnw.com/event/gear-grants-jackpot-jog-2024/
CATEGORIES:Event
ATTACH;FMTTYPE=image/png:https://cdn.runhubnw.com/app/uploads/2024/08/05124814/Jackpot-Jog-Square-24.png
END:VEVENT
END:VCALENDAR