BEGIN:VCALENDAR
VERSION:2.0
PRODID:-//Run Hub Northwest - ECPv6.15.17.1//NONSGML v1.0//EN
CALSCALE:GREGORIAN
METHOD:PUBLISH
X-WR-CALNAME:Run Hub Northwest
X-ORIGINAL-URL:https://runhubnw.com
X-WR-CALDESC:Events for Run Hub Northwest
REFRESH-INTERVAL;VALUE=DURATION:PT1H
X-Robots-Tag:noindex
X-PUBLISHED-TTL:PT1H
BEGIN:VTIMEZONE
TZID:America/Los_Angeles
BEGIN:DAYLIGHT
TZOFFSETFROM:-0800
TZOFFSETTO:-0700
TZNAME:PDT
DTSTART:20220313T100000
END:DAYLIGHT
BEGIN:STANDARD
TZOFFSETFROM:-0700
TZOFFSETTO:-0800
TZNAME:PST
DTSTART:20221106T090000
END:STANDARD
BEGIN:DAYLIGHT
TZOFFSETFROM:-0800
TZOFFSETTO:-0700
TZNAME:PDT
DTSTART:20230312T100000
END:DAYLIGHT
BEGIN:STANDARD
TZOFFSETFROM:-0700
TZOFFSETTO:-0800
TZNAME:PST
DTSTART:20231105T090000
END:STANDARD
BEGIN:DAYLIGHT
TZOFFSETFROM:-0800
TZOFFSETTO:-0700
TZNAME:PDT
DTSTART:20240310T100000
END:DAYLIGHT
BEGIN:STANDARD
TZOFFSETFROM:-0700
TZOFFSETTO:-0800
TZNAME:PST
DTSTART:20241103T090000
END:STANDARD
END:VTIMEZONE
BEGIN:VEVENT
DTSTART;TZID=America/Los_Angeles:20230218T090000
DTEND;TZID=America/Los_Angeles:20230218T110000
DTSTAMP:20260425T054941
CREATED:20230131T225648Z
LAST-MODIFIED:20230223T192049Z
UID:10000849-1676710800-1676718000@runhubnw.com
SUMMARY:Gear Grants Pancake Run 2023
DESCRIPTION:Supporting Run Hub Gear Grants for track and field student athletes \n\n\n\n\n\n\n\n\n\n\n\n\n\n\n\n\n\n\n\n\n\n\n\n\n\nJoin us on Saturday\, Feb 18\, for the 2023 Gear Grants Pancake Run\, a group run and pancake breakfast fundraiser for Run Hub Gear Grants! \n\n\n\nThe run will start at 9 AM at Run Hub Northwest\, 515 High Street in Eugene. Choose to walk or run 3 or 5 miles on Pre’s Trail. Afterward\, enjoy pancakes back at the shop! This is a drop-in style event\, so if you can’t make it to the run\, feel free to still join for pancakes up until 11 AM.  \n\n\n\nAsics will also be at the shop to demo the brand new Gel-Nimbus 25! In addition\, every ticket holder who attends the event will be given a raffle ticket for a chance to win their own pair of the Nimbus! \n\n\n\nYour ticket includes a meal of pancakes\, sausages (veggie option)\, fruit\, and a mimosa (alcohol free option). All ticket proceeds will go to Run Hub Gear Grants. \n\n\n\nRun Hub Gear Grants provide free running shoes and other gear to school-aged runners in need. Our Spring 2023 Gear Grants application is open\, and grants will be issued to track and field athletes in March.  \n\n\n\nA cross country runner at South Eugene High School who received a Gear Grant in fall 2022 said this: \n\n\n\n“Receiving a Run Hub Gear Grant was being allowed to have the opportunity to succeed in running … I still use the training shoes today\, they might be a bit dirty but they still are some of the best shoes I’ve ever had and some of the most comfortable. The spikes allowed me to compete at a level that challenged me and my abilities\, and since I’ve never done distance\, cross country was an immense challenge. From the start of the season\, I was running 26 minute 5Ks\, and by the end\, I was running 21 minutes. Not much\, but it was extremely important to me as I’ve always struggled with distance and it was my first year. I likely wouldn’t have had such an improvement without the help from Run Hub.”
URL:https://runhubnw.com/event/gear-grants-pancake-run-2023-with-asics/
LOCATION:Run Hub Northwest\, 515 High St\, Eugene\, OR\, 97401\, United States
CATEGORIES:Group Run
ATTACH;FMTTYPE=image/png:https://cdn.runhubnw.com/app/uploads/2023/01/31145625/Gear-Grants-Pancake-Run-web-header-4-%C3%97-4-in.png
GEO:44.0539572;-123.0879346
X-APPLE-STRUCTURED-LOCATION;VALUE=URI;X-ADDRESS=Run Hub Northwest 515 High St Eugene OR 97401 United States;X-APPLE-RADIUS=500;X-TITLE=515 High St:geo:-123.0879346,44.0539572
END:VEVENT
END:VCALENDAR