BEGIN:VCALENDAR
VERSION:2.0
PRODID:-//Run Hub Northwest - ECPv6.15.17.1//NONSGML v1.0//EN
CALSCALE:GREGORIAN
METHOD:PUBLISH
X-ORIGINAL-URL:https://runhubnw.com
X-WR-CALDESC:Events for Run Hub Northwest
REFRESH-INTERVAL;VALUE=DURATION:PT1H
X-Robots-Tag:noindex
X-PUBLISHED-TTL:PT1H
BEGIN:VTIMEZONE
TZID:America/Los_Angeles
BEGIN:DAYLIGHT
TZOFFSETFROM:-0800
TZOFFSETTO:-0700
TZNAME:PDT
DTSTART:20210314T100000
END:DAYLIGHT
BEGIN:STANDARD
TZOFFSETFROM:-0700
TZOFFSETTO:-0800
TZNAME:PST
DTSTART:20211107T090000
END:STANDARD
BEGIN:DAYLIGHT
TZOFFSETFROM:-0800
TZOFFSETTO:-0700
TZNAME:PDT
DTSTART:20220313T100000
END:DAYLIGHT
BEGIN:STANDARD
TZOFFSETFROM:-0700
TZOFFSETTO:-0800
TZNAME:PST
DTSTART:20221106T090000
END:STANDARD
BEGIN:DAYLIGHT
TZOFFSETFROM:-0800
TZOFFSETTO:-0700
TZNAME:PDT
DTSTART:20230312T100000
END:DAYLIGHT
BEGIN:STANDARD
TZOFFSETFROM:-0700
TZOFFSETTO:-0800
TZNAME:PST
DTSTART:20231105T090000
END:STANDARD
END:VTIMEZONE
BEGIN:VEVENT
DTSTART;TZID=America/Los_Angeles:20220406T180000
DTEND;TZID=America/Los_Angeles:20220406T200000
DTSTAMP:20260419T222713
CREATED:20150508T023046Z
LAST-MODIFIED:20241016T192618Z
UID:10000655-1649268000-1649275200@runhubnw.com
SUMMARY:Community Group Run
DESCRIPTION:Join us every Wednesday for a laid-back\, fun run. We meet in front of Run Hub at 515 High Street. Runners and walkers can choose to go 3 or 5 miles at a range of speeds (seriously). Anyone and everyone is welcome\, including small persons in strollers and our four legged-friends. \nWinter 3-mile routeWinter 5-mile route
URL:https://runhubnw.com/event/community-group-run/2022-04-06/
LOCATION:Run Hub Northwest\, 515 High St\, Eugene\, OR\, 97401\, United States
CATEGORIES:Group Run
ATTACH;FMTTYPE=image/jpeg:https://cdn.runhubnw.com/app/uploads/2022/10/17183001/IMG_0003-crop.jpg
GEO:44.0539572;-123.0879346
X-APPLE-STRUCTURED-LOCATION;VALUE=URI;X-ADDRESS=Run Hub Northwest 515 High St Eugene OR 97401 United States;X-APPLE-RADIUS=500;X-TITLE=515 High St:geo:-123.0879346,44.0539572
END:VEVENT
BEGIN:VEVENT
DTSTART;TZID=America/Los_Angeles:20220413T180000
DTEND;TZID=America/Los_Angeles:20220413T200000
DTSTAMP:20260419T222713
CREATED:20150508T023046Z
LAST-MODIFIED:20241016T192618Z
UID:10000656-1649872800-1649880000@runhubnw.com
SUMMARY:Community Group Run
DESCRIPTION:Join us every Wednesday for a laid-back\, fun run. We meet in front of Run Hub at 515 High Street. Runners and walkers can choose to go 3 or 5 miles at a range of speeds (seriously). Anyone and everyone is welcome\, including small persons in strollers and our four legged-friends. \nWinter 3-mile routeWinter 5-mile route
URL:https://runhubnw.com/event/community-group-run/2022-04-13/
LOCATION:Run Hub Northwest\, 515 High St\, Eugene\, OR\, 97401\, United States
CATEGORIES:Group Run
ATTACH;FMTTYPE=image/jpeg:https://cdn.runhubnw.com/app/uploads/2022/10/17183001/IMG_0003-crop.jpg
GEO:44.0539572;-123.0879346
X-APPLE-STRUCTURED-LOCATION;VALUE=URI;X-ADDRESS=Run Hub Northwest 515 High St Eugene OR 97401 United States;X-APPLE-RADIUS=500;X-TITLE=515 High St:geo:-123.0879346,44.0539572
END:VEVENT
BEGIN:VEVENT
DTSTART;TZID=America/Los_Angeles:20220420T180000
DTEND;TZID=America/Los_Angeles:20220420T200000
DTSTAMP:20260419T222713
CREATED:20150508T023046Z
LAST-MODIFIED:20241016T192618Z
UID:10000657-1650477600-1650484800@runhubnw.com
SUMMARY:Community Group Run
DESCRIPTION:Join us every Wednesday for a laid-back\, fun run. We meet in front of Run Hub at 515 High Street. Runners and walkers can choose to go 3 or 5 miles at a range of speeds (seriously). Anyone and everyone is welcome\, including small persons in strollers and our four legged-friends. \nWinter 3-mile routeWinter 5-mile route
URL:https://runhubnw.com/event/community-group-run/2022-04-20/
LOCATION:Run Hub Northwest\, 515 High St\, Eugene\, OR\, 97401\, United States
CATEGORIES:Group Run
ATTACH;FMTTYPE=image/jpeg:https://cdn.runhubnw.com/app/uploads/2022/10/17183001/IMG_0003-crop.jpg
GEO:44.0539572;-123.0879346
X-APPLE-STRUCTURED-LOCATION;VALUE=URI;X-ADDRESS=Run Hub Northwest 515 High St Eugene OR 97401 United States;X-APPLE-RADIUS=500;X-TITLE=515 High St:geo:-123.0879346,44.0539572
END:VEVENT
BEGIN:VEVENT
DTSTART;TZID=America/Los_Angeles:20220427T180000
DTEND;TZID=America/Los_Angeles:20220427T200000
DTSTAMP:20260419T222713
CREATED:20150508T023046Z
LAST-MODIFIED:20241016T192618Z
UID:10000658-1651082400-1651089600@runhubnw.com
SUMMARY:Community Group Run
DESCRIPTION:Join us every Wednesday for a laid-back\, fun run. We meet in front of Run Hub at 515 High Street. Runners and walkers can choose to go 3 or 5 miles at a range of speeds (seriously). Anyone and everyone is welcome\, including small persons in strollers and our four legged-friends. \nWinter 3-mile routeWinter 5-mile route
URL:https://runhubnw.com/event/community-group-run/2022-04-27/
LOCATION:Run Hub Northwest\, 515 High St\, Eugene\, OR\, 97401\, United States
CATEGORIES:Group Run
ATTACH;FMTTYPE=image/jpeg:https://cdn.runhubnw.com/app/uploads/2022/10/17183001/IMG_0003-crop.jpg
GEO:44.0539572;-123.0879346
X-APPLE-STRUCTURED-LOCATION;VALUE=URI;X-ADDRESS=Run Hub Northwest 515 High St Eugene OR 97401 United States;X-APPLE-RADIUS=500;X-TITLE=515 High St:geo:-123.0879346,44.0539572
END:VEVENT
BEGIN:VEVENT
DTSTART;TZID=America/Los_Angeles:20220430T090000
DTEND;TZID=America/Los_Angeles:20220430T100000
DTSTAMP:20260419T222713
CREATED:20220411T205725Z
LAST-MODIFIED:20220411T205726Z
UID:10000924-1651309200-1651312800@runhubnw.com
SUMMARY:Eugene Marathon Shakeout Run
DESCRIPTION:Join us at the shop for a 3-mile shakeout run before the Eugene Marathon on May 1! Whether you’re running the full or half marathon\, or just want to come for a fun group run\, join us for a few easy miles on Pre’s Trail. All paces and abilities are welcome.Afterward we’ll enjoy coffee and pastries at the shop from Palace Coffee and Bakery.
URL:https://runhubnw.com/event/eugene-marathon-shakeout-run-2/
LOCATION:Run Hub Northwest\, 515 High St\, Eugene\, OR\, 97401\, United States
CATEGORIES:Group Run
ATTACH;FMTTYPE=image/jpeg:https://cdn.runhubnw.com/app/uploads/2022/04/11135711/PXL_20210902_013607625.MP_-scaled.jpg
GEO:44.0539572;-123.0879346
X-APPLE-STRUCTURED-LOCATION;VALUE=URI;X-ADDRESS=Run Hub Northwest 515 High St Eugene OR 97401 United States;X-APPLE-RADIUS=500;X-TITLE=515 High St:geo:-123.0879346,44.0539572
END:VEVENT
END:VCALENDAR