BEGIN:VCALENDAR
VERSION:2.0
PRODID:-//Run Hub Northwest - ECPv6.15.17.1//NONSGML v1.0//EN
CALSCALE:GREGORIAN
METHOD:PUBLISH
X-ORIGINAL-URL:https://runhubnw.com
X-WR-CALDESC:Events for Run Hub Northwest
REFRESH-INTERVAL;VALUE=DURATION:PT1H
X-Robots-Tag:noindex
X-PUBLISHED-TTL:PT1H
BEGIN:VTIMEZONE
TZID:America/Los_Angeles
BEGIN:DAYLIGHT
TZOFFSETFROM:-0800
TZOFFSETTO:-0700
TZNAME:PDT
DTSTART:20220313T100000
END:DAYLIGHT
BEGIN:STANDARD
TZOFFSETFROM:-0700
TZOFFSETTO:-0800
TZNAME:PST
DTSTART:20221106T090000
END:STANDARD
BEGIN:DAYLIGHT
TZOFFSETFROM:-0800
TZOFFSETTO:-0700
TZNAME:PDT
DTSTART:20230312T100000
END:DAYLIGHT
BEGIN:STANDARD
TZOFFSETFROM:-0700
TZOFFSETTO:-0800
TZNAME:PST
DTSTART:20231105T090000
END:STANDARD
BEGIN:DAYLIGHT
TZOFFSETFROM:-0800
TZOFFSETTO:-0700
TZNAME:PDT
DTSTART:20240310T100000
END:DAYLIGHT
BEGIN:STANDARD
TZOFFSETFROM:-0700
TZOFFSETTO:-0800
TZNAME:PST
DTSTART:20241103T090000
END:STANDARD
END:VTIMEZONE
BEGIN:VEVENT
DTSTART;TZID=America/Los_Angeles:20230301T180000
DTEND;TZID=America/Los_Angeles:20230301T200000
DTSTAMP:20260419T055245
CREATED:20150508T023046Z
LAST-MODIFIED:20241016T192618Z
UID:10000699-1677693600-1677700800@runhubnw.com
SUMMARY:Community Group Run
DESCRIPTION:Join us every Wednesday for a laid-back\, fun run. We meet in front of Run Hub at 515 High Street. Runners and walkers can choose to go 3 or 5 miles at a range of speeds (seriously). Anyone and everyone is welcome\, including small persons in strollers and our four legged-friends. \nWinter 3-mile routeWinter 5-mile route
URL:https://runhubnw.com/event/community-group-run/2023-03-01/
LOCATION:Run Hub Northwest\, 515 High St\, Eugene\, OR\, 97401\, United States
CATEGORIES:Group Run
ATTACH;FMTTYPE=image/jpeg:https://cdn.runhubnw.com/app/uploads/2022/10/17183001/IMG_0003-crop.jpg
GEO:44.0539572;-123.0879346
X-APPLE-STRUCTURED-LOCATION;VALUE=URI;X-ADDRESS=Run Hub Northwest 515 High St Eugene OR 97401 United States;X-APPLE-RADIUS=500;X-TITLE=515 High St:geo:-123.0879346,44.0539572
END:VEVENT
BEGIN:VEVENT
DTSTART;TZID=America/Los_Angeles:20230308T180000
DTEND;TZID=America/Los_Angeles:20230308T200000
DTSTAMP:20260419T055245
CREATED:20150508T023046Z
LAST-MODIFIED:20241016T192618Z
UID:10000700-1678298400-1678305600@runhubnw.com
SUMMARY:Community Group Run
DESCRIPTION:Join us every Wednesday for a laid-back\, fun run. We meet in front of Run Hub at 515 High Street. Runners and walkers can choose to go 3 or 5 miles at a range of speeds (seriously). Anyone and everyone is welcome\, including small persons in strollers and our four legged-friends. \nWinter 3-mile routeWinter 5-mile route
URL:https://runhubnw.com/event/community-group-run/2023-03-08/
LOCATION:Run Hub Northwest\, 515 High St\, Eugene\, OR\, 97401\, United States
CATEGORIES:Group Run
ATTACH;FMTTYPE=image/jpeg:https://cdn.runhubnw.com/app/uploads/2022/10/17183001/IMG_0003-crop.jpg
GEO:44.0539572;-123.0879346
X-APPLE-STRUCTURED-LOCATION;VALUE=URI;X-ADDRESS=Run Hub Northwest 515 High St Eugene OR 97401 United States;X-APPLE-RADIUS=500;X-TITLE=515 High St:geo:-123.0879346,44.0539572
END:VEVENT
BEGIN:VEVENT
DTSTART;TZID=America/Los_Angeles:20230315T180000
DTEND;TZID=America/Los_Angeles:20230315T200000
DTSTAMP:20260419T055245
CREATED:20150508T023046Z
LAST-MODIFIED:20241016T192618Z
UID:10000701-1678903200-1678910400@runhubnw.com
SUMMARY:Community Group Run
DESCRIPTION:Join us every Wednesday for a laid-back\, fun run. We meet in front of Run Hub at 515 High Street. Runners and walkers can choose to go 3 or 5 miles at a range of speeds (seriously). Anyone and everyone is welcome\, including small persons in strollers and our four legged-friends. \nWinter 3-mile routeWinter 5-mile route
URL:https://runhubnw.com/event/community-group-run/2023-03-15/
LOCATION:Run Hub Northwest\, 515 High St\, Eugene\, OR\, 97401\, United States
CATEGORIES:Group Run
ATTACH;FMTTYPE=image/jpeg:https://cdn.runhubnw.com/app/uploads/2022/10/17183001/IMG_0003-crop.jpg
GEO:44.0539572;-123.0879346
X-APPLE-STRUCTURED-LOCATION;VALUE=URI;X-ADDRESS=Run Hub Northwest 515 High St Eugene OR 97401 United States;X-APPLE-RADIUS=500;X-TITLE=515 High St:geo:-123.0879346,44.0539572
END:VEVENT
BEGIN:VEVENT
DTSTART;TZID=America/Los_Angeles:20230318T130000
DTEND;TZID=America/Los_Angeles:20230318T160000
DTSTAMP:20260419T055245
CREATED:20230228T181645Z
LAST-MODIFIED:20230228T181649Z
UID:10000944-1679144400-1679155200@runhubnw.com
SUMMARY:St. Paddy's Day RunVenture 2023
DESCRIPTION:Join us for our St. Paddy’s Day RunVenture! A leprechaun has hidden five pots of golden coins in south Eugene. For this running scavenger hunt\, you’ll solve a series of limericks to discover where the gold is hidden!  The event\, which you can run or walk and which will be up to 5.5 miles (you can choose to do less)\, will start at the South Eugene High School Track. The run will begin at 2 PM\, but come as early as 1 PM to demo Brooks shoes and Oofos recovery sandals to earn extra raffle tickets for the post-RunVenture raffle!  The run will end at Drop Bear Brewery\, where we’ll host our prize raffle and award prizes for best costumes!  Schedule: 1 PM: Gather at South Eugene High School track to demo Oofos recovery sandals and check out a pair of Brooks running shoes to wear during the RunVenture. You’ll get extra raffle tickets for trying products from our vendors!  2 PM: Run begins! You’ll pick up a gold coin at each RunVenture location you make it to\, and the more coins you have\, the more raffle tickets you’ll get!  3 PM: End the run at Drop Bear Brewery and enjoy drinks and a raffle!   This event is free and pre-registration is not required.  \n\n\n\nThank you to our sponsors: Brooks Running\, Tifosi Optics\, and Oofos Recovery Footwear!
URL:https://runhubnw.com/event/st-paddys-day-runventure-2023/
LOCATION:Run Hub Northwest\, 515 High St\, Eugene\, OR\, 97401\, United States
CATEGORIES:RunVenture
ATTACH;FMTTYPE=image/png:https://cdn.runhubnw.com/app/uploads/2023/02/28101636/St.-Paddys-Day-RunVenture-2023-Facebook-banner-4-%C3%97-4-in.png
GEO:44.0539572;-123.0879346
X-APPLE-STRUCTURED-LOCATION;VALUE=URI;X-ADDRESS=Run Hub Northwest 515 High St Eugene OR 97401 United States;X-APPLE-RADIUS=500;X-TITLE=515 High St:geo:-123.0879346,44.0539572
END:VEVENT
BEGIN:VEVENT
DTSTART;TZID=America/Los_Angeles:20230322T173000
DTEND;TZID=America/Los_Angeles:20230322T190000
DTSTAMP:20260419T055245
CREATED:20230208T223252Z
LAST-MODIFIED:20230222T183721Z
UID:10000942-1679506200-1679511600@runhubnw.com
SUMMARY:Community Run and Hoka Clifton 9 demo
DESCRIPTION:Join us for our regularly scheduled community run and demo the brand new Hoka Clifton 9. \n\n\n\nThe run will start at 6 PM at Run Hub\, 515 High Street. Come a little early to check out a pair of demo shoes\, then choose to run 3 or 5 miles on the Willamette River path. \n\n\n\nAll paces and abilities are welcome! Please brings lights and/or reflective gear for safety. \n\n\n\nThe Clifton 9 is now 4 grams lighter and 3 mm higher in cushion! It features a responsive new foam and improved outsole design\, as well as fewer overlays\, a plusher heel and a reflective heel panel.
URL:https://runhubnw.com/event/community-run-and-hoka-clifton-9-demo/
LOCATION:Run Hub Northwest\, 515 High St\, Eugene\, OR\, 97401\, United States
CATEGORIES:Clinic/Demo,Group Run
ATTACH;FMTTYPE=image/png:https://cdn.runhubnw.com/app/uploads/2023/02/08143138/HOKA_S23_Clifton-9_Lifestyle_W_7-e1675895538435.png
GEO:44.0539572;-123.0879346
X-APPLE-STRUCTURED-LOCATION;VALUE=URI;X-ADDRESS=Run Hub Northwest 515 High St Eugene OR 97401 United States;X-APPLE-RADIUS=500;X-TITLE=515 High St:geo:-123.0879346,44.0539572
END:VEVENT
BEGIN:VEVENT
DTSTART;TZID=America/Los_Angeles:20230322T180000
DTEND;TZID=America/Los_Angeles:20230322T200000
DTSTAMP:20260419T055245
CREATED:20150508T023046Z
LAST-MODIFIED:20241016T192618Z
UID:10000702-1679508000-1679515200@runhubnw.com
SUMMARY:Community Group Run
DESCRIPTION:Join us every Wednesday for a laid-back\, fun run. We meet in front of Run Hub at 515 High Street. Runners and walkers can choose to go 3 or 5 miles at a range of speeds (seriously). Anyone and everyone is welcome\, including small persons in strollers and our four legged-friends. \nWinter 3-mile routeWinter 5-mile route
URL:https://runhubnw.com/event/community-group-run/2023-03-22/
LOCATION:Run Hub Northwest\, 515 High St\, Eugene\, OR\, 97401\, United States
CATEGORIES:Group Run
ATTACH;FMTTYPE=image/jpeg:https://cdn.runhubnw.com/app/uploads/2022/10/17183001/IMG_0003-crop.jpg
GEO:44.0539572;-123.0879346
X-APPLE-STRUCTURED-LOCATION;VALUE=URI;X-ADDRESS=Run Hub Northwest 515 High St Eugene OR 97401 United States;X-APPLE-RADIUS=500;X-TITLE=515 High St:geo:-123.0879346,44.0539572
END:VEVENT
BEGIN:VEVENT
DTSTART;TZID=America/Los_Angeles:20230329T180000
DTEND;TZID=America/Los_Angeles:20230329T200000
DTSTAMP:20260419T055245
CREATED:20150508T023046Z
LAST-MODIFIED:20241016T192618Z
UID:10000703-1680112800-1680120000@runhubnw.com
SUMMARY:Community Group Run
DESCRIPTION:Join us every Wednesday for a laid-back\, fun run. We meet in front of Run Hub at 515 High Street. Runners and walkers can choose to go 3 or 5 miles at a range of speeds (seriously). Anyone and everyone is welcome\, including small persons in strollers and our four legged-friends. \nWinter 3-mile routeWinter 5-mile route
URL:https://runhubnw.com/event/community-group-run/2023-03-29/
LOCATION:Run Hub Northwest\, 515 High St\, Eugene\, OR\, 97401\, United States
CATEGORIES:Group Run
ATTACH;FMTTYPE=image/jpeg:https://cdn.runhubnw.com/app/uploads/2022/10/17183001/IMG_0003-crop.jpg
GEO:44.0539572;-123.0879346
X-APPLE-STRUCTURED-LOCATION;VALUE=URI;X-ADDRESS=Run Hub Northwest 515 High St Eugene OR 97401 United States;X-APPLE-RADIUS=500;X-TITLE=515 High St:geo:-123.0879346,44.0539572
END:VEVENT
END:VCALENDAR