BEGIN:VCALENDAR
VERSION:2.0
PRODID:-//Run Hub Northwest - ECPv6.15.17.1//NONSGML v1.0//EN
CALSCALE:GREGORIAN
METHOD:PUBLISH
X-ORIGINAL-URL:https://runhubnw.com
X-WR-CALDESC:Events for Run Hub Northwest
REFRESH-INTERVAL;VALUE=DURATION:PT1H
X-Robots-Tag:noindex
X-PUBLISHED-TTL:PT1H
BEGIN:VTIMEZONE
TZID:America/Los_Angeles
BEGIN:DAYLIGHT
TZOFFSETFROM:-0800
TZOFFSETTO:-0700
TZNAME:PDT
DTSTART:20220313T100000
END:DAYLIGHT
BEGIN:STANDARD
TZOFFSETFROM:-0700
TZOFFSETTO:-0800
TZNAME:PST
DTSTART:20221106T090000
END:STANDARD
BEGIN:DAYLIGHT
TZOFFSETFROM:-0800
TZOFFSETTO:-0700
TZNAME:PDT
DTSTART:20230312T100000
END:DAYLIGHT
BEGIN:STANDARD
TZOFFSETFROM:-0700
TZOFFSETTO:-0800
TZNAME:PST
DTSTART:20231105T090000
END:STANDARD
BEGIN:DAYLIGHT
TZOFFSETFROM:-0800
TZOFFSETTO:-0700
TZNAME:PDT
DTSTART:20240310T100000
END:DAYLIGHT
BEGIN:STANDARD
TZOFFSETFROM:-0700
TZOFFSETTO:-0800
TZNAME:PST
DTSTART:20241103T090000
END:STANDARD
END:VTIMEZONE
BEGIN:VEVENT
DTSTART;TZID=America/Los_Angeles:20231126T080000
DTEND;TZID=America/Los_Angeles:20231126T140000
DTSTAMP:20260420T063700
CREATED:20231025T194651Z
LAST-MODIFIED:20231102T222954Z
UID:10001236-1700985600-1701007200@runhubnw.com
SUMMARY:Destination Trail Run: McKenzie River Trail
DESCRIPTION:SIGN UP FOR THE RUN SHUTTLE HERE. \n\n\n\nFor our November Destination Trail Run\, we’ll stick with tradition and head to the McKenzie River Trail! We typically do this run in December\, but are moving it up a month in the hopes of avoiding too much snow.  \n\n\n\nMeet at Run Hub at 8 AM and we’ll leave at 8:15AM to carpool to Belknap Hot Springs\, or meet us there around 9:30 AM. Horse Creek Lodge will shuttle us to starting locations on the trail for point-to-point runs ending back at Belknap Hot Springs. There will be mile options ranging 5-13 miles. You must sign up for the run shuttle ahead of time; the cost is $10.  \n\n\n\nAll paces are welcome\, including running and walking! \n\n\n\nAfter the run/hike\, we’ll go to Belknap Hot Springs for an hour soak. The cost is $10/person. Please bring a swimsuit and towel\, as well as a change of clothes\, food and water for after the run. \n\n\n\nSIGN UP FOR THE RUN SHUTTLE HERE.
URL:https://runhubnw.com/event/destination-trail-run-mckenzie-river-trail-2/
CATEGORIES:Trail Run
ATTACH;FMTTYPE=image/jpeg:https://cdn.runhubnw.com/app/uploads/2023/10/25124613/IMG_20181229_114035_exported_342_6885222565098074494-e1698263201234.jpg
END:VEVENT
END:VCALENDAR