BEGIN:VCALENDAR
VERSION:2.0
PRODID:-//Run Hub Northwest - ECPv6.15.17.1//NONSGML v1.0//EN
CALSCALE:GREGORIAN
METHOD:PUBLISH
X-WR-CALNAME:Run Hub Northwest
X-ORIGINAL-URL:https://runhubnw.com
X-WR-CALDESC:Events for Run Hub Northwest
REFRESH-INTERVAL;VALUE=DURATION:PT1H
X-Robots-Tag:noindex
X-PUBLISHED-TTL:PT1H
BEGIN:VTIMEZONE
TZID:America/Los_Angeles
BEGIN:DAYLIGHT
TZOFFSETFROM:-0800
TZOFFSETTO:-0700
TZNAME:PDT
DTSTART:20200308T100000
END:DAYLIGHT
BEGIN:STANDARD
TZOFFSETFROM:-0700
TZOFFSETTO:-0800
TZNAME:PST
DTSTART:20201101T090000
END:STANDARD
BEGIN:DAYLIGHT
TZOFFSETFROM:-0800
TZOFFSETTO:-0700
TZNAME:PDT
DTSTART:20210314T100000
END:DAYLIGHT
BEGIN:STANDARD
TZOFFSETFROM:-0700
TZOFFSETTO:-0800
TZNAME:PST
DTSTART:20211107T090000
END:STANDARD
BEGIN:DAYLIGHT
TZOFFSETFROM:-0800
TZOFFSETTO:-0700
TZNAME:PDT
DTSTART:20220313T100000
END:DAYLIGHT
BEGIN:STANDARD
TZOFFSETFROM:-0700
TZOFFSETTO:-0800
TZNAME:PST
DTSTART:20221106T090000
END:STANDARD
END:VTIMEZONE
BEGIN:VEVENT
DTSTART;TZID=America/Los_Angeles:20210912T080000
DTEND;TZID=America/Los_Angeles:20210912T140000
DTSTAMP:20260424T172146
CREATED:20210901T181502Z
LAST-MODIFIED:20210901T181507Z
UID:10000911-1631433600-1631455200@runhubnw.com
SUMMARY:Destination Trail Run: Dead Mountain Oakridge Triple Summit Preview Run
DESCRIPTION:On September 24-26\, the Oakridge Triple Summit Challenge will take place\, so we will not be doing a destination trail run at the end of September. Instead we are going to do one a couple of weeks earlier on Sunday\, September 12. We will meet at 8 AM at Run Hub to carpool to the Dead Mountain trailhead. We will leave Run Hub around 8:15 and should arrive at the trailhead around 9 AM. This is an up and down mountain course\, so if you want to summit it will be just over an 11-mile roundtrip. If you want to run less you can turn around at anytime\, but I promise the views are worth the summit! After the run we will head to 3 Legged Crane Pub and Brewhouse (formerly known as Brewers Union Local 180) for a beer and lunch. All levels and abilities are invited! This is a preview run for Day 2 of the Oakridge Triple Summit Challenge. If you are interested in running or volunteering at the race there are still spots available. Go to https://oakridgetriplesummitchallenge.com/ for more details. \n\n\n\nSchedule:8:00-8:15 AM: Meet at Run Hub to carpool to trail head. Address: 515 High St. Eugene\, OR.9:00 AM: Meet at the Dead Mountain trail head: Directions: If you Google Map 3 Legged Crane you will drive past the brewery on your left and continue driving for about a mile. The trailhead parking lot will be on your left.9:00-12:00 PM: Run Dead Mountain12:00 PM: 3 Legged Crane Brewery. Address: 48329 E 1st St\, Oakridge\, OR 97463
URL:https://runhubnw.com/event/destination-trail-run-dead-mountain-oakridge-triple-summit-preview-run/
LOCATION:Run Hub Northwest\, 515 High St\, Eugene\, OR\, 97401\, United States
CATEGORIES:Trail Run
ATTACH;FMTTYPE=image/jpeg:https://cdn.runhubnw.com/app/uploads/2021/09/01110252/240826744_2042982422520400_6852367586410494883_n.jpg
GEO:44.0539572;-123.0879346
X-APPLE-STRUCTURED-LOCATION;VALUE=URI;X-ADDRESS=Run Hub Northwest 515 High St Eugene OR 97401 United States;X-APPLE-RADIUS=500;X-TITLE=515 High St:geo:-123.0879346,44.0539572
END:VEVENT
END:VCALENDAR