BEGIN:VCALENDAR
VERSION:2.0
PRODID:-//Run Hub Northwest - ECPv6.15.17.1//NONSGML v1.0//EN
CALSCALE:GREGORIAN
METHOD:PUBLISH
X-WR-CALNAME:Run Hub Northwest
X-ORIGINAL-URL:https://runhubnw.com
X-WR-CALDESC:Events for Run Hub Northwest
REFRESH-INTERVAL;VALUE=DURATION:PT1H
X-Robots-Tag:noindex
X-PUBLISHED-TTL:PT1H
BEGIN:VTIMEZONE
TZID:America/Los_Angeles
BEGIN:DAYLIGHT
TZOFFSETFROM:-0800
TZOFFSETTO:-0700
TZNAME:PDT
DTSTART:20200308T100000
END:DAYLIGHT
BEGIN:STANDARD
TZOFFSETFROM:-0700
TZOFFSETTO:-0800
TZNAME:PST
DTSTART:20201101T090000
END:STANDARD
BEGIN:DAYLIGHT
TZOFFSETFROM:-0800
TZOFFSETTO:-0700
TZNAME:PDT
DTSTART:20210314T100000
END:DAYLIGHT
BEGIN:STANDARD
TZOFFSETFROM:-0700
TZOFFSETTO:-0800
TZNAME:PST
DTSTART:20211107T090000
END:STANDARD
BEGIN:DAYLIGHT
TZOFFSETFROM:-0800
TZOFFSETTO:-0700
TZNAME:PDT
DTSTART:20220313T100000
END:DAYLIGHT
BEGIN:STANDARD
TZOFFSETFROM:-0700
TZOFFSETTO:-0800
TZNAME:PST
DTSTART:20221106T090000
END:STANDARD
END:VTIMEZONE
BEGIN:VEVENT
DTSTART;TZID=America/Los_Angeles:20211030T080000
DTEND;TZID=America/Los_Angeles:20211030T130000
DTSTAMP:20260424T155017
CREATED:20211006T232351Z
LAST-MODIFIED:20211012T192313Z
UID:10000791-1635580800-1635598800@runhubnw.com
SUMMARY:Destination Trail Run: Middle Fork Willamette Trail
DESCRIPTION:For this month’s destination trail run\, we are going to go to Oakridge. In my biased opinion\, the best place for trails in the entire PNW\, and possibly the nation! With over 500 miles of trails around the area you never have to stop exploring. This month we will be going on a new trail called the Middle Fork. It was a relatively flat trail\, compared to Oakridge trail standards. It is over 30 miles long one way and hugs the Middle Fork Willamette River the entire way. We will start at Sand Prairie campground\, which is 12 miles south on forest service road 21. It is an approximately a 70-minute drive from Run Hub. We will run south on the Middle Fork trail. Since this trail is a one way you can turn around whenever you like. We will eat lunch at Three Legged Crane Brewery in Oakridge after. Details below: \n\n\n\n8:00 AM: Meet at Run Hub NW.8:15 AM: Car pool to Sand Prairie Campground.9:30 AM: Arrive at campground. Start run.12:00 PM: Meet at Three Legged Crane Brewery for lunch.  \n\n\n\nHope to see you at Run Hub! I will bring a map for everyone to look at. It is a gorgeous trail and very runnable with little elevation gain. 
URL:https://runhubnw.com/event/destination-trail-run-middle-fork-willamette-trail/
LOCATION:Run Hub Northwest\, 515 High St\, Eugene\, OR\, 97401\, United States
CATEGORIES:Trail Run
ATTACH;FMTTYPE=image/jpeg:https://cdn.runhubnw.com/app/uploads/2021/10/12122132/38037060252_ff3df02147_k.jpg
GEO:44.0539572;-123.0879346
X-APPLE-STRUCTURED-LOCATION;VALUE=URI;X-ADDRESS=Run Hub Northwest 515 High St Eugene OR 97401 United States;X-APPLE-RADIUS=500;X-TITLE=515 High St:geo:-123.0879346,44.0539572
END:VEVENT
END:VCALENDAR