BEGIN:VCALENDAR
VERSION:2.0
PRODID:-//Run Hub Northwest - ECPv6.15.17.1//NONSGML v1.0//EN
CALSCALE:GREGORIAN
METHOD:PUBLISH
X-ORIGINAL-URL:https://runhubnw.com
X-WR-CALDESC:Events for Run Hub Northwest
REFRESH-INTERVAL;VALUE=DURATION:PT1H
X-Robots-Tag:noindex
X-PUBLISHED-TTL:PT1H
BEGIN:VTIMEZONE
TZID:America/Los_Angeles
BEGIN:DAYLIGHT
TZOFFSETFROM:-0800
TZOFFSETTO:-0700
TZNAME:PDT
DTSTART:20210314T100000
END:DAYLIGHT
BEGIN:STANDARD
TZOFFSETFROM:-0700
TZOFFSETTO:-0800
TZNAME:PST
DTSTART:20211107T090000
END:STANDARD
BEGIN:DAYLIGHT
TZOFFSETFROM:-0800
TZOFFSETTO:-0700
TZNAME:PDT
DTSTART:20220313T100000
END:DAYLIGHT
BEGIN:STANDARD
TZOFFSETFROM:-0700
TZOFFSETTO:-0800
TZNAME:PST
DTSTART:20221106T090000
END:STANDARD
BEGIN:DAYLIGHT
TZOFFSETFROM:-0800
TZOFFSETTO:-0700
TZNAME:PDT
DTSTART:20230312T100000
END:DAYLIGHT
BEGIN:STANDARD
TZOFFSETFROM:-0700
TZOFFSETTO:-0800
TZNAME:PST
DTSTART:20231105T090000
END:STANDARD
END:VTIMEZONE
BEGIN:VEVENT
DTSTART;TZID=America/Los_Angeles:20220626T090000
DTEND;TZID=America/Los_Angeles:20220626T150000
DTSTAMP:20260424T044949
CREATED:20220607T222717Z
LAST-MODIFIED:20220607T223655Z
UID:10000919-1656234000-1656255600@runhubnw.com
SUMMARY:Destination Trail Run: Dead Mountain/Oakridge Triple Summit Challenge Preview Run
DESCRIPTION:This month’s Destination Trail Run will be Dead Mountain\, located in the trail running capital of the PNW: Oakridge\, Oregon.  \n\n\n\nWe will start at the Dead Mountain Trailhead. From there\, you will have the option to run up the Dead Mountain trail\, which climbs around 3\,000 feet in 5.5 miles. The summit is well worth it though! You will be rewarded with 180 degree views of the Willamette National Forest below you. If you are planning on participating in the Oakridge Triple Summit Challenge on July 8th-10th this is the trail you will be running on during the second day of the stage race. If climbing isn’t your thing you can cross the road and run on the flat but scenic Salmon Creek trail.  \n\n\n\nIf you choose to run Dead Mountain\, it is an out and back trail that would total around 11 miles. If you do the Salmon Creek Trail\, you can do a 3- to 5-mile out and back or you can do an 8-mile loop. I will bring a map to show you the loop. All levels are welcome! Let’s enjoy this beautiful Sunday on the trails with friends!After the run we will meet at 3 Legged Crane Brewery for some tasty drinks and food. Details below:9:00 AM: Meet at Run Hub Northwest9:15 AM: Depart for Dead Mountain Trailhead10:10 AM: Arrive at Dead Mountain Trailhead or meet us there. Directions: It is about a mile past the 3 legged crane brewery out of town on your left.12:00 PM: Meet at 3 Legged Crane Brewery
URL:https://runhubnw.com/event/destination-trail-run-dead-mountain-oakridge-triple-summit-challenge-preview-run%ef%bf%bc/
LOCATION:Run Hub Northwest\, 515 High St\, Eugene\, OR\, 97401\, United States
CATEGORIES:Trail Run
ATTACH;FMTTYPE=image/jpeg:https://cdn.runhubnw.com/app/uploads/2022/06/07152303/285697431_2257075547777752_6247608684168155766_n.jpg
GEO:44.0539572;-123.0879346
X-APPLE-STRUCTURED-LOCATION;VALUE=URI;X-ADDRESS=Run Hub Northwest 515 High St Eugene OR 97401 United States;X-APPLE-RADIUS=500;X-TITLE=515 High St:geo:-123.0879346,44.0539572
END:VEVENT
END:VCALENDAR