BEGIN:VCALENDAR
VERSION:2.0
PRODID:-//Run Hub Northwest - ECPv6.15.17.1//NONSGML v1.0//EN
CALSCALE:GREGORIAN
METHOD:PUBLISH
X-ORIGINAL-URL:https://runhubnw.com
X-WR-CALDESC:Events for Run Hub Northwest
REFRESH-INTERVAL;VALUE=DURATION:PT1H
X-Robots-Tag:noindex
X-PUBLISHED-TTL:PT1H
BEGIN:VTIMEZONE
TZID:America/Los_Angeles
BEGIN:DAYLIGHT
TZOFFSETFROM:-0800
TZOFFSETTO:-0700
TZNAME:PDT
DTSTART:20170312T100000
END:DAYLIGHT
BEGIN:STANDARD
TZOFFSETFROM:-0700
TZOFFSETTO:-0800
TZNAME:PST
DTSTART:20171105T090000
END:STANDARD
BEGIN:DAYLIGHT
TZOFFSETFROM:-0800
TZOFFSETTO:-0700
TZNAME:PDT
DTSTART:20180311T100000
END:DAYLIGHT
BEGIN:STANDARD
TZOFFSETFROM:-0700
TZOFFSETTO:-0800
TZNAME:PST
DTSTART:20181104T090000
END:STANDARD
BEGIN:DAYLIGHT
TZOFFSETFROM:-0800
TZOFFSETTO:-0700
TZNAME:PDT
DTSTART:20190310T100000
END:DAYLIGHT
BEGIN:STANDARD
TZOFFSETFROM:-0700
TZOFFSETTO:-0800
TZNAME:PST
DTSTART:20191103T090000
END:STANDARD
BEGIN:DAYLIGHT
TZOFFSETFROM:-0800
TZOFFSETTO:-0700
TZNAME:PDT
DTSTART:20200308T100000
END:DAYLIGHT
BEGIN:STANDARD
TZOFFSETFROM:-0700
TZOFFSETTO:-0800
TZNAME:PST
DTSTART:20201101T090000
END:STANDARD
BEGIN:DAYLIGHT
TZOFFSETFROM:-0800
TZOFFSETTO:-0700
TZNAME:PDT
DTSTART:20210314T100000
END:DAYLIGHT
BEGIN:STANDARD
TZOFFSETFROM:-0700
TZOFFSETTO:-0800
TZNAME:PST
DTSTART:20211107T090000
END:STANDARD
BEGIN:DAYLIGHT
TZOFFSETFROM:-0800
TZOFFSETTO:-0700
TZNAME:PDT
DTSTART:20220313T100000
END:DAYLIGHT
BEGIN:STANDARD
TZOFFSETFROM:-0700
TZOFFSETTO:-0800
TZNAME:PST
DTSTART:20221106T090000
END:STANDARD
BEGIN:DAYLIGHT
TZOFFSETFROM:-0800
TZOFFSETTO:-0700
TZNAME:PDT
DTSTART:20230312T100000
END:DAYLIGHT
BEGIN:STANDARD
TZOFFSETFROM:-0700
TZOFFSETTO:-0800
TZNAME:PST
DTSTART:20231105T090000
END:STANDARD
BEGIN:DAYLIGHT
TZOFFSETFROM:-0800
TZOFFSETTO:-0700
TZNAME:PDT
DTSTART:20240310T100000
END:DAYLIGHT
BEGIN:STANDARD
TZOFFSETFROM:-0700
TZOFFSETTO:-0800
TZNAME:PST
DTSTART:20241103T090000
END:STANDARD
BEGIN:DAYLIGHT
TZOFFSETFROM:-0800
TZOFFSETTO:-0700
TZNAME:PDT
DTSTART:20250309T100000
END:DAYLIGHT
BEGIN:STANDARD
TZOFFSETFROM:-0700
TZOFFSETTO:-0800
TZNAME:PST
DTSTART:20251102T090000
END:STANDARD
END:VTIMEZONE
BEGIN:VEVENT
DTSTART;TZID=America/Los_Angeles:20241027T080000
DTEND;TZID=America/Los_Angeles:20241027T120000
DTSTAMP:20260419T191500
CREATED:20241009T165637Z
LAST-MODIFIED:20251010T214318Z
UID:10001270-1730016000-1730030400@runhubnw.com
SUMMARY:Destination Trail Run - Hendricks to Moon
DESCRIPTION:Meet at Hendrick’s Park parking lot (corner of Floral Hill Dr. & Fairmount Blvd) at 8am on Sun\, Oct. 27 for a 6.5-mile no-drop trail run. We’ll talk about the route\, take a group photo and get going around 8:10am. \nThis is a backyard destination trail run from Hendricks Park to Moon Mountain\, with 1\,050′ elevation gain and warm fall vibes. You’ll climb Ribbon Trail and dash over to Black Oak Basin. Then you’ll head up\, down and around to Coryell Ridge\, and get a fall morning view of Moon before looping back\, down and around to Hendricks. After the run\, we’ll head to Hideaway Bakery (3377 E Amazon Dr) for food and drink.  \nOur new trail run leader\, James Wellington will be leading this month’s trail run. Welcome\, James! \nA no-drop run means we’ll be stopping as a group a few times along the way for everyone to regroup. If you’re planning to hike the route\, feel free to bring a friend or save the route. \n \nHighlights of the run: \n\n Muddy in parts in the wet season\nLocal wildflower in the growing season\nVarious terrain types (bonus)\nHideaway Bakery after\nBecome a friend?\n\nFor more local Eugene and Lane County group trial runs\, see destination trail runs.
URL:https://runhubnw.com/event/destination-trails-hendricks-to-moon/
LOCATION:Hendricks Park
CATEGORIES:Group Run,Trail Run
ATTACH;FMTTYPE=image/jpeg:https://cdn.runhubnw.com/app/uploads/2024/10/09095505/image-20230822-192227-142be85a-scaled-e1728493141290.jpeg
END:VEVENT
BEGIN:VEVENT
DTSTART;TZID=America/Los_Angeles:20180512T090000
DTEND;TZID=America/Los_Angeles:20180512T120000
DTSTAMP:20260419T191500
CREATED:20180510T181604Z
LAST-MODIFIED:20191210T175752Z
UID:10000822-1526115600-1526126400@runhubnw.com
SUMMARY:Treat Your Trails: Hendricks Park Work Party
DESCRIPTION:Join the Run Hub community in sustaining Eugene’s urban trail system on Saturday\, May 12 at 9:00 a.m. at Hendricks Park. Volunteers will help with trail maintenance and trailside vegetation removal during this family-friendly work party. Tools\, gloves\, instruction and snacks provided. Running to the park is optional. We will plan to be at the park at 9:00. If your intention is to run to Hendricks from the store start at 8:30. It’s about 2.5 miles from the store to Hendricks. Coffee\, bagels\, and donuts will be provided by Run Hub. \nRunning as a group is fun\, but giving back to our community is important and fun\, too. Join your running friends in a morning of beautifying Hendricks Park Forest\, a place many of us love to run and walk. The event is put on by the Eugene Parks & Open Space Division in partnership with Run Hub Northwest. Please let us know if you have any questions! \n  \nEvent details here \n 
URL:https://runhubnw.com/event/treat-your-trails-hendricks-park-work-party/
LOCATION:Hendricks Park
CATEGORIES:Event
ATTACH;FMTTYPE=image/jpeg:https://cdn.runhubnw.com/app/uploads/2018/05/08120030/IMG-4956.jpg
END:VEVENT
END:VCALENDAR